BEGIN:VCALENDAR
VERSION:2.0
PRODID:-//ortenaukultur.de//NONSGML kigkonsult.se iCalcreator 2.41.92//
CALSCALE:GREGORIAN
METHOD:PUBLISH
UID:32666131-3933-4538-b139-663638396163
X-WR-TIMEZONE:Europe/Berlin
X-LIC-LOCATION:Europe/Berlin
BEGIN:VEVENT
UID:565789-kulturportal@ortenaukultur.de
DTSTAMP:20260422T095904Z
DESCRIPTION:Kurzbeschreibung:\n Jahrgangsverkostung auf unserer Dachterrass
 e mit DJ Set von DJane Roselle\n Ort:\n Weingut Weber\n Im Offental\, 7795
 5 Ettenheim\n Veranstalter:\n Weingut Weber\n Termin:\n Beginn: 17.05.2026
 \, 14:00 Uhr\n Ende: 17.05.2026\n Link:\n Zur Detailseite
DTSTART;TZID=Europe/Berlin:20260517T140000
DTEND;TZID=Europe/Berlin:20260517T170000
LOCATION:Weingut Weber\, Im Offental\, 77955 Ettenheim
SUMMARY:DAYDRINKING // Rooftop Session Vol. 3\, Weingut Weber
X-ALT-DESC;FMTTYPE=text/html:<strong>Kurzbeschreibung:</strong><br/>Jahrgan
 gsverkostung auf unserer Dachterrasse mit DJ Set von DJane Roselle<br /><s
 trong>Ort:</strong><br/>Weingut Weber<br/>Im Offental\, 77955 Ettenheim<br
  /><strong>Veranstalter:</strong><br/>Weingut Weber<br /><strong>Termin:</
 strong><br/>Beginn: 17.05.2026\, 14:00 Uhr<br/>Ende: 17.05.2026<br /><stro
 ng>Link:</strong><br/><a href='https://ortenaukultur.de/de/veranstaltungen
 /detail/veranstaltung/id/565789-daydrinking-rooftop-session-vol-3/?vt=1'>Z
 ur Detailseite</a>
END:VEVENT
END:VCALENDAR
