BEGIN:VCALENDAR
VERSION:2.0
PRODID:-//ortenaukultur.de//NONSGML kigkonsult.se iCalcreator 2.41.92//
CALSCALE:GREGORIAN
METHOD:PUBLISH
UID:32363232-6534-4531-b965-353163663666
X-WR-TIMEZONE:Europe/Berlin
X-LIC-LOCATION:Europe/Berlin
BEGIN:VEVENT
UID:570402-kulturportal@ortenaukultur.de
DTSTAMP:20260422T112608Z
DESCRIPTION:Kurzbeschreibung:\n Matthieu Saglio Quartet Flamenco\, Jazz\, A
 lte Musik und Barock verziert mit westafrikanischen Farben\n Ort:\n Reitha
 lle im Kulturforum\n Moltkestraße 31\, 77654 Offenburg\n Veranstalter:\n F
 rau Antje Haury\, Abteilungssleitung\, 8.1 Kulturbüro Offenburg\n Termin:
 \n Beginn: 25.04.2026\, 20:00 Uhr\n Ende: 25.04.2026\n Tickets:\n Tickets 
 kaufen\n https://ortenaukultur.reservix.de/p/reservix/event/2397488\n 1. K
 ategorie:\n bis 25\,20 € + Ermäßigung\n *Preise inkl. MwSt.\n \n Link:\n Z
 ur Detailseite
DTSTART;TZID=Europe/Berlin:20260425T200000
DTEND;TZID=Europe/Berlin:20260425T230000
LOCATION:Reithalle im Kulturforum\, Moltkestraße 31\, 77654 Offenburg
SUMMARY:Matthieu Saglio & Band\, Reithalle im Kulturforum
X-ALT-DESC;FMTTYPE=text/html:<strong>Kurzbeschreibung:</strong><br/>Matthie
 u Saglio Quartet\n\nFlamenco\, Jazz\, Alte Musik und Barock verziert mit w
 estafrikanischen Farben<br /><strong>Ort:</strong><br/>Reithalle im Kultur
 forum<br/>Moltkestraße 31\, 77654 Offenburg<br /><strong>Veranstalter:</st
 rong><br/>Frau Antje Haury\, Abteilungssleitung\, 8.1 Kulturbüro Offenburg
 <br /><strong>Termin:</strong><br/>Beginn: 25.04.2026\, 20:00 Uhr<br/>Ende
 : 25.04.2026<br /><strong>Tickets: </strong><br/><a rel='asdf' href='https
 ://ortenaukultur.de/de/kinder-jugend/detail/tickets/id/570402-matthieu-sag
 lio-band/?follow=https%253A%252F%252Fortenaukultur.reservix.de%252Fp%252Fr
 eservix%252Fevent%252F2397488' target='_blank' title='' id='ticketlink'>Ti
 ckets kaufen</a><br/>https://ortenaukultur.reservix.de/p/reservix/event/23
 97488<br/><b>1. Kategorie: </b><br />bis 25\,20 &euro\;&nbsp\; + Ermäßigun
 g<br />*Preise inkl. MwSt.<br /><br /><strong>Link:</strong><br/><a href='
 https://ortenaukultur.de/de/veranstaltungen/detail/veranstaltung/id/570402
 -matthieu-saglio-band/?vt=1'>Zur Detailseite</a>
END:VEVENT
END:VCALENDAR
