BEGIN:VCALENDAR
VERSION:2.0
PRODID:-//ortenaukultur.de//NONSGML kigkonsult.se iCalcreator 2.41.92//
CALSCALE:GREGORIAN
METHOD:PUBLISH
UID:37666233-6164-4366-a333-613037356635
X-WR-TIMEZONE:Europe/Berlin
X-LIC-LOCATION:Europe/Berlin
BEGIN:VEVENT
UID:570963-kulturportal@ortenaukultur.de
DTSTAMP:20260422T020834Z
DESCRIPTION:Kurzbeschreibung:\n Wer hat Lust\, die Spiele-Roboter der Stadt
 bibliothek auszuprobieren und ihre Funktionen zu testen?\n Ort:\n Stadtbib
 liothek Offenburg\n Weingartenstr. 32/34\, 77654 Offenburg\n Veranstalter:
 \n Stadtbibliothek Offenburg\n Termin:\n Beginn: 31.08.2026\, 09:00 Uhr\n 
 Ende: 31.08.2026\n Link:\n Zur Detailseite
DTSTART;TZID=Europe/Berlin:20260831T090000
DTEND;TZID=Europe/Berlin:20260831T120000
LOCATION:Stadtbibliothek Offenburg \, Weingartenstr. 32/34\, 77654 Offenbur
 g
SUMMARY:Ferienspass - Robotik-Workshop\, Stadtbibliothek Offenburg
X-ALT-DESC;FMTTYPE=text/html:<strong>Kurzbeschreibung:</strong><br/>Wer hat
  Lust\, die Spiele-Roboter der Stadtbibliothek auszuprobieren und ihre Fun
 ktionen zu testen?<br /><strong>Ort:</strong><br/>Stadtbibliothek Offenbur
 g <br/>Weingartenstr. 32/34\, 77654 Offenburg<br /><strong>Veranstalter:</
 strong><br/>Stadtbibliothek Offenburg<br /><strong>Termin:</strong><br/>Be
 ginn: 31.08.2026\, 09:00 Uhr<br/>Ende: 31.08.2026<br /><strong>Link:</stro
 ng><br/><a href='https://ortenaukultur.de/de/veranstaltungen/detail/verans
 taltung/id/570963-ferienspass-robotik-workshop/?vt=1'>Zur Detailseite</a>
END:VEVENT
END:VCALENDAR
