BEGIN:VCALENDAR
VERSION:2.0
PRODID:-//ortenaukultur.de//NONSGML kigkonsult.se iCalcreator 2.41.92//
CALSCALE:GREGORIAN
METHOD:PUBLISH
UID:66643063-3266-4366-b831-656137316532
X-WR-TIMEZONE:Europe/Berlin
X-LIC-LOCATION:Europe/Berlin
BEGIN:VEVENT
UID:570965-kulturportal@ortenaukultur.de
DTSTAMP:20260421T224542Z
DESCRIPTION:Kurzbeschreibung:\n Für kleine Piratenfans: Piraten entern die 
 Stadtbibliothek! Komm und mach mit!\n Ort:\n Stadtbibliothek Offenburg\n W
 eingartenstr. 32/34\, 77654 Offenburg\n Veranstalter:\n Stadtbibliothek Of
 fenburg\n Termin:\n Beginn: 03.08.2026\, 09:30 Uhr\n Ende: 03.08.2026\n Li
 nk:\n Zur Detailseite
DTSTART;TZID=Europe/Berlin:20260803T093000
DTEND;TZID=Europe/Berlin:20260803T123000
LOCATION:Stadtbibliothek Offenburg \, Weingartenstr. 32/34\, 77654 Offenbur
 g
SUMMARY:Ferienspass - Piraten Ahoi\, Stadtbibliothek Offenburg
X-ALT-DESC;FMTTYPE=text/html:<strong>Kurzbeschreibung:</strong><br/>Für kle
 ine Piratenfans: Piraten entern die Stadtbibliothek! Komm und mach mit! <b
 r /><strong>Ort:</strong><br/>Stadtbibliothek Offenburg <br/>Weingartenstr
 . 32/34\, 77654 Offenburg<br /><strong>Veranstalter:</strong><br/>Stadtbib
 liothek Offenburg<br /><strong>Termin:</strong><br/>Beginn: 03.08.2026\, 0
 9:30 Uhr<br/>Ende: 03.08.2026<br /><strong>Link:</strong><br/><a href='htt
 ps://ortenaukultur.de/de/veranstaltungen/detail/veranstaltung/id/570965-fe
 rienspass-piraten-ahoi/?vt=1'>Zur Detailseite</a>
END:VEVENT
END:VCALENDAR
