BEGIN:VCALENDAR
VERSION:2.0
PRODID:-//ortenaukultur.de//NONSGML kigkonsult.se iCalcreator 2.41.92//
CALSCALE:GREGORIAN
METHOD:PUBLISH
UID:63326666-3666-4531-b363-666361363139
X-WR-TIMEZONE:Europe/Berlin
X-LIC-LOCATION:Europe/Berlin
BEGIN:VEVENT
UID:579375-kulturportal@ortenaukultur.de
DTSTAMP:20260421T211608Z
DESCRIPTION:Kurzbeschreibung:\n Künstler aus Haslach und der Umgebung präse
 ntieren zwei Tage lang ihre Werke und zeigen dabei\, wie man die Freizeit 
 kreativ gestalten kann.\n Ort:\n Stadthalle\n Hauptstraße 1a\, 77716 Hasla
 ch\n Veranstalter:\n Hobbykünstler Haslach\n Termin:\n Beginn: 14.11.2026\
 , 12:00 Uhr\n Ende: 14.11.2026\n Tickets:\n Anmelden für die Hobbykünstler
 ausstellung können Sie sich bei dem Organisationsteam:\n \n Frau Kaltenbac
 h\, Tel.: 07832/976766\n Frau Eisenmann\, Tel.: 07832/9789952\n Frau Marqu
 es\, Tel.: 07832/969029\n Link:\n Zur Detailseite
DTSTART;TZID=Europe/Berlin:20261114T120000
DTEND;TZID=Europe/Berlin:20261114T150000
LOCATION:Stadthalle\, Hauptstraße 1a\, 77716 Haslach
SUMMARY:Hobbykünstler Ausstellung\, Stadthalle
X-ALT-DESC;FMTTYPE=text/html:<strong>Kurzbeschreibung:</strong><br/>Künstle
 r aus Haslach und der Umgebung präsentieren zwei Tage lang ihre Werke und 
 zeigen dabei\, wie man die Freizeit kreativ gestalten kann. <br /><strong>
 Ort:</strong><br/>Stadthalle<br/>Hauptstraße 1a\, 77716 Haslach<br /><stro
 ng>Veranstalter:</strong><br/>Hobbykünstler Haslach<br /><strong>Termin:</
 strong><br/>Beginn: 14.11.2026\, 12:00 Uhr<br/>Ende: 14.11.2026<br /><stro
 ng>Tickets: </strong><br/>Anmelden für die Hobbykünstlerausstellung können
  Sie sich bei dem Organisationsteam:<br />\n<br />\nFrau Kaltenbach\, Tel.
 : 07832/976766<br />\nFrau Eisenmann\, Tel.: 07832/9789952<br />\nFrau Mar
 ques\, Tel.: 07832/969029<br /><strong>Link:</strong><br/><a href='https:/
 /ortenaukultur.de/de/veranstaltungen/detail/veranstaltung/id/579375-hobbyk
 uenstler-ausstellung/?vt=1'>Zur Detailseite</a>
END:VEVENT
END:VCALENDAR
