BEGIN:VCALENDAR
VERSION:2.0
PRODID:-//ortenaukultur.de//NONSGML kigkonsult.se iCalcreator 2.41.92//
CALSCALE:GREGORIAN
METHOD:PUBLISH
UID:63343932-3533-4036-b339-613962313239
X-WR-TIMEZONE:Europe/Berlin
X-LIC-LOCATION:Europe/Berlin
BEGIN:VEVENT
UID:581696-kulturportal@ortenaukultur.de
DTSTAMP:20260421T191927Z
DESCRIPTION:Kurzbeschreibung:\n Regionale Produkte\, bäuerliches Kunsthandw
 erk und regionale Köstlichkeiten - das alles bietet der größte Bauernmarkt
  in der Region.\n Ort:\n Achern\n Rathaus Am Markt 1\, 77855 Achern\n Vera
 nstalter:\n Achern aktiv Verein für Handel und Gewerbe in Achern e.V.\n Te
 rmin:\n Beginn: 10.10.2026\, 08:00 Uhr\n Ende: 10.10.2026\n Tickets:\n Tic
 kets\n Link:\n Zur Detailseite
DTSTART;TZID=Europe/Berlin:20261010T080000
DTEND;TZID=Europe/Berlin:20261010T110000
LOCATION:Achern\, Rathaus Am Markt 1\, 77855 Achern
SUMMARY:Achern - Bauernmarkt - Das Original\, Achern
X-ALT-DESC;FMTTYPE=text/html:<strong>Kurzbeschreibung:</strong><br/>Regiona
 le Produkte\, bäuerliches Kunsthandwerk und regionale Köstlichkeiten - das
  alles bietet der größte Bauernmarkt in der Region.<br /><strong>Ort:</str
 ong><br/>Achern<br/>Rathaus Am Markt 1\, 77855 Achern<br /><strong>Veranst
 alter:</strong><br/>Achern aktiv Verein für Handel und Gewerbe in Achern e
 .V.<br /><strong>Termin:</strong><br/>Beginn: 10.10.2026\, 08:00 Uhr<br/>E
 nde: 10.10.2026<br /><strong>Tickets: </strong><br/><a  class='wco_cb_subt
 itle_link'  id='ticketlink'  href='mailto:info@achern-aktiv.de' target='_b
 lank' >Tickets</a><br /><strong>Link:</strong><br/><a href='https://ortena
 ukultur.de/de/veranstaltungen/detail/veranstaltung/id/581696-achern-bauern
 markt-das-original/?vt=1'>Zur Detailseite</a>
END:VEVENT
END:VCALENDAR
