BEGIN:VCALENDAR
VERSION:2.0
PRODID:-//ortenaukultur.de//NONSGML kigkonsult.se iCalcreator 2.41.92//
CALSCALE:GREGORIAN
METHOD:PUBLISH
UID:35626366-6239-4864-b063-343963336466
X-WR-TIMEZONE:Europe/Berlin
X-LIC-LOCATION:Europe/Berlin
BEGIN:VEVENT
UID:581989-kulturportal@ortenaukultur.de
DTSTAMP:20260421T231418Z
DESCRIPTION:Kurzbeschreibung:\n Als Erweiterung des großen Wochenmarktes in
  der historischen Fachwerkaltstadt Haslach\n Ort:\n Historische Fachwerkal
 tstadt\n Marktplatz\, 77716 Haslach\n Veranstalter:\n Landfrauen der Raums
 chaft Haslach\n Termin:\n Beginn: 15.08.2026\, 08:00 Uhr\n Ende: 15.08.202
 6\n Link:\n Zur Detailseite
DTSTART;TZID=Europe/Berlin:20260815T080000
DTEND;TZID=Europe/Berlin:20260815T110000
LOCATION:Historische Fachwerkaltstadt\, Marktplatz\, 77716 Haslach
SUMMARY:Sommermarkt der Landfrauen\, Historische Fachwerkaltstadt
X-ALT-DESC;FMTTYPE=text/html:<strong>Kurzbeschreibung:</strong><br/>Als Erw
 eiterung des großen Wochenmarktes in der historischen Fachwerkaltstadt Has
 lach<br /><strong>Ort:</strong><br/>Historische Fachwerkaltstadt<br/>Markt
 platz\, 77716 Haslach<br /><strong>Veranstalter:</strong><br/>Landfrauen d
 er Raumschaft Haslach<br /><strong>Termin:</strong><br/>Beginn: 15.08.2026
 \, 08:00 Uhr<br/>Ende: 15.08.2026<br /><strong>Link:</strong><br/><a href=
 'https://ortenaukultur.de/de/veranstaltungen/detail/veranstaltung/id/58198
 9-sommermarkt-der-landfrauen/?vt=1'>Zur Detailseite</a>
END:VEVENT
END:VCALENDAR
