BEGIN:VCALENDAR
VERSION:2.0
PRODID:-//ortenaukultur.de//NONSGML kigkonsult.se iCalcreator 2.41.92//
CALSCALE:GREGORIAN
METHOD:PUBLISH
UID:63303462-3239-4039-a565-653563653832
X-WR-TIMEZONE:Europe/Berlin
X-LIC-LOCATION:Europe/Berlin
BEGIN:VEVENT
UID:582246-kulturportal@ortenaukultur.de
DTSTAMP:20260421T222452Z
DESCRIPTION:Kurzbeschreibung:\n Einer Meisterdiebin auf den Fersen- Unterwe
 gs auf den Spuren der Schleiferbärbel durch Oberkirchs Gassen\n Ort:\n Tou
 rist Information\n Bahnhofstraße 16\, 77704 Oberkirch\n Veranstalter:\n Re
 nchtal Tourismus GmbH\n Termin:\n Beginn: 23.05.2026\, 10:00 Uhr\n Ende: 2
 3.05.2026\n Tickets:\n 22 Euro inklusive Dinnele (Rahmkuchen mit Speck)\n 
 Link:\n Zur Detailseite
DTSTART;TZID=Europe/Berlin:20260523T100000
DTEND;TZID=Europe/Berlin:20260523T130000
LOCATION:Tourist Information\, Bahnhofstraße 16\, 77704 Oberkirch
SUMMARY:Auf den Spuren der Schleiferbärbel\, Tourist Information
X-ALT-DESC;FMTTYPE=text/html:<strong>Kurzbeschreibung:</strong><br/>Einer M
 eisterdiebin auf den Fersen- Unterwegs auf den Spuren der Schleiferbärbel 
 durch Oberkirchs Gassen<br /><strong>Ort:</strong><br/>Tourist Information
 <br/>Bahnhofstraße 16\, 77704 Oberkirch<br /><strong>Veranstalter:</strong
 ><br/>Renchtal Tourismus GmbH<br /><strong>Termin:</strong><br/>Beginn: 23
 .05.2026\, 10:00 Uhr<br/>Ende: 23.05.2026<br /><strong>Tickets: </strong><
 br/>22 Euro inklusive Dinnele (Rahmkuchen mit Speck)<br /><strong>Link:</s
 trong><br/><a href='https://ortenaukultur.de/de/veranstaltungen/detail/ver
 anstaltung/id/582246-auf-den-spuren-der-schleiferbaerbel/?vt=1'>Zur Detail
 seite</a>
END:VEVENT
END:VCALENDAR
