BEGIN:VCALENDAR
VERSION:2.0
PRODID:-//ortenaukultur.de//NONSGML kigkonsult.se iCalcreator 2.41.92//
CALSCALE:GREGORIAN
METHOD:PUBLISH
UID:61623731-6461-4663-b363-643436393962
X-WR-TIMEZONE:Europe/Berlin
X-LIC-LOCATION:Europe/Berlin
BEGIN:VEVENT
UID:583300-kulturportal@ortenaukultur.de
DTSTAMP:20260422T004616Z
DESCRIPTION:Kurzbeschreibung:\n Aufführung der 'Großen Theater AG' des RGG 
 im Rahmen des Hausacher Leselenz\n Ort:\n Aula des RGG\n Gustav-Rivinius-P
 latz 3\, 77756 Hausach\n Veranstalter:\n Theater AG des RGG\n Termin:\n Be
 ginn: 14.07.2026\, 20:00 Uhr\n Ende: 14.07.2026\n Link:\n Zur Detailseite
DTSTART;TZID=Europe/Berlin:20260714T200000
DTEND;TZID=Europe/Berlin:20260714T230000
LOCATION:Aula des RGG\, Gustav-Rivinius-Platz 3\, 77756 Hausach
SUMMARY:Aufführung der 'Großen Theater AG' des RGG\, Stadthalle
X-ALT-DESC;FMTTYPE=text/html:<strong>Kurzbeschreibung:</strong><br/>Aufführ
 ung der 'Großen Theater AG' des RGG im Rahmen des Hausacher Leselenz<br />
 <strong>Ort:</strong><br/>Aula des RGG<br/>Gustav-Rivinius-Platz 3\, 77756
  Hausach<br /><strong>Veranstalter:</strong><br/>Theater AG des RGG<br /><
 strong>Termin:</strong><br/>Beginn: 14.07.2026\, 20:00 Uhr<br/>Ende: 14.07
 .2026<br /><strong>Link:</strong><br/><a href='https://ortenaukultur.de/de
 /veranstaltungen/detail/veranstaltung/id/583300-auffuehrung-der-grossen-th
 eater-ag-des-rgg/?vt=1'>Zur Detailseite</a>
END:VEVENT
END:VCALENDAR
