BEGIN:VCALENDAR
VERSION:2.0
PRODID:-//ortenaukultur.de//NONSGML kigkonsult.se iCalcreator 2.41.92//
CALSCALE:GREGORIAN
METHOD:PUBLISH
UID:35636231-6261-4331-a464-356464333636
X-WR-TIMEZONE:Europe/Berlin
X-LIC-LOCATION:Europe/Berlin
BEGIN:VEVENT
UID:584847-kulturportal@ortenaukultur.de
DTSTAMP:20260421T212656Z
DESCRIPTION:Kurzbeschreibung:\n Auf einer Wanderstrecke von ca. 10 km treff
 t Ihr auf 4 Food-Trucks und unsere leckere Weine\n Ort:\n Weingut Weber\n 
 Im Offental\, 77955 Ettenheim\n Veranstalter:\n Weingut Weber\n Termin:\n 
 Beginn: 03.05.2026\n Ende: 03.05.2026\n Link:\n Zur Detailseite
DTSTART;TZID=Europe/Berlin:20260503T000000
DTEND;TZID=Europe/Berlin:20260503T030000
LOCATION:Weingut Weber\, Im Offental\, 77955 Ettenheim
SUMMARY:Foodtruck-Weinbergwanderung\, Weingut Weber
X-ALT-DESC;FMTTYPE=text/html:<strong>Kurzbeschreibung:</strong><br/>Auf ein
 er Wanderstrecke von ca. 10 km trefft Ihr auf 4 Food-Trucks und unsere lec
 kere Weine<br /><strong>Ort:</strong><br/>Weingut Weber<br/>Im Offental\, 
 77955 Ettenheim<br /><strong>Veranstalter:</strong><br/>Weingut Weber<br /
 ><strong>Termin:</strong><br/>Beginn: 03.05.2026<br/>Ende: 03.05.2026<br /
 ><strong>Link:</strong><br/><a href='https://ortenaukultur.de/de/veranstal
 tungen/detail/veranstaltung/id/584847-foodtruck-weinbergwanderung/?vt=1'>Z
 ur Detailseite</a>
END:VEVENT
END:VCALENDAR
