BEGIN:VCALENDAR
VERSION:2.0
PRODID:-//ortenaukultur.de//NONSGML kigkonsult.se iCalcreator 2.41.92//
CALSCALE:GREGORIAN
METHOD:PUBLISH
UID:32396563-3537-4932-b830-633033353061
X-WR-TIMEZONE:Europe/Berlin
X-LIC-LOCATION:Europe/Berlin
BEGIN:VEVENT
UID:585368-kulturportal@ortenaukultur.de
DTSTAMP:20260423T021504Z
DESCRIPTION:Kurzbeschreibung:\n Spannender Stadtrundgang über berühmte und 
 auch nicht so bekannte Frauen Acherns\n Ort:\n Adlerplatz Achern\, Achern
 \n Veranstalter:\n Stadt Achern - FG3.3 - Tourist-Info\n Termin:\n Beginn:
  27.10.2026\, 16:00 Uhr\n Ende: 27.10.2026\n Link:\n Zur Detailseite
DTSTART;TZID=Europe/Berlin:20261027T160000
DTEND;TZID=Europe/Berlin:20261027T190000
LOCATION:Adlerplatz Achern\, Achern
SUMMARY:Stadtführung 'Auf den Spuren Acherner Frauen'\, Adlerplatz Achern
X-ALT-DESC;FMTTYPE=text/html:<strong>Kurzbeschreibung:</strong><br/>Spannen
 der Stadtrundgang über berühmte und auch nicht so bekannte Frauen Acherns<
 br /><strong>Ort:</strong><br/>Adlerplatz Achern\, Achern<br /><strong>Ver
 anstalter:</strong><br/>Stadt Achern - FG3.3 - Tourist-Info<br /><strong>T
 ermin:</strong><br/>Beginn: 27.10.2026\, 16:00 Uhr<br/>Ende: 27.10.2026<br
  /><strong>Link:</strong><br/><a href='https://ortenaukultur.de/de/veranst
 altungen/detail/veranstaltung/id/585368-stadtfuehrung-auf-den-spuren-acher
 ner-frauen/?vt=1'>Zur Detailseite</a>
END:VEVENT
END:VCALENDAR
