BEGIN:VCALENDAR
VERSION:2.0
PRODID:-//ortenaukultur.de//NONSGML kigkonsult.se iCalcreator 2.41.92//
CALSCALE:GREGORIAN
METHOD:PUBLISH
UID:61663938-3836-4134-b433-303430613963
X-WR-TIMEZONE:Europe/Berlin
X-LIC-LOCATION:Europe/Berlin
BEGIN:VEVENT
UID:585836-kulturportal@ortenaukultur.de
DTSTAMP:20260422T225827Z
DESCRIPTION:Kurzbeschreibung:\n Das Mühlenfest wird im Rahmen des deutschen
  Mühlentags vom DGM\, der alljährich am Pfingstmontag stattfindet\, gefeie
 rt.\n Ort:\n Vögele´s Mühle\n Niederbach\, 77790 Steinach\n Veranstalter:
 \n Familie Vögele\n Termin:\n Beginn: 25.05.2026\, 11:00 Uhr\n Ende: 25.05
 .2026\n Link:\n Zur Detailseite
DTSTART;TZID=Europe/Berlin:20260525T110000
DTEND;TZID=Europe/Berlin:20260525T140000
LOCATION:Vögele´s Mühle\, Niederbach\, 77790 Steinach
SUMMARY:Mühlenfest an der Vögele´s Mühle\, Vögele´s Mühle
X-ALT-DESC;FMTTYPE=text/html:<strong>Kurzbeschreibung:</strong><br/>Das Müh
 lenfest wird im Rahmen des deutschen Mühlentags vom DGM\, der alljährich a
 m Pfingstmontag stattfindet\, gefeiert.<br /><strong>Ort:</strong><br/>Vög
 ele´s Mühle<br/>Niederbach\, 77790 Steinach<br /><strong>Veranstalter:</st
 rong><br/>Familie Vögele<br /><strong>Termin:</strong><br/>Beginn: 25.05.2
 026\, 11:00 Uhr<br/>Ende: 25.05.2026<br /><strong>Link:</strong><br/><a hr
 ef='https://ortenaukultur.de/de/veranstaltungen/detail/veranstaltung/id/58
 5836-muehlenfest-an-der-voegele-s-muehle/?vt=1'>Zur Detailseite</a>
END:VEVENT
END:VCALENDAR
