BEGIN:VCALENDAR
VERSION:2.0
PRODID:-//ortenaukultur.de//NONSGML kigkonsult.se iCalcreator 2.41.92//
CALSCALE:GREGORIAN
METHOD:PUBLISH
UID:35303133-6237-4333-b837-363437613633
X-WR-TIMEZONE:Europe/Berlin
X-LIC-LOCATION:Europe/Berlin
BEGIN:VEVENT
UID:587549-kulturportal@ortenaukultur.de
DTSTAMP:20260421T153448Z
DESCRIPTION:Kurzbeschreibung:\n Täglich Spannende Führungen unter Tage biet
 et das Besucherbergwerk Grube Wenzel in Oberwolfach.\n Ort:\n Besucherberg
 werk Grube Wenzel\n Frohnbach 19\, 77709 Oberwolfach\n Veranstalter:\n Gem
 einde Oberwolfach\n Termin:\n Beginn: 21.04.2026\n Ende: 21.04.2026\n Link
 :\n Zur Detailseite
DTSTART;TZID=Europe/Berlin:20260421T000000
DTEND;TZID=Europe/Berlin:20260421T030000
LOCATION:Besucherbergwerk Grube Wenzel\, Frohnbach 19\, 77709 Oberwolfach
SUMMARY:Führungen durch das Besucherbergwerk Grube Wenzel in Oberwolfach\, 
 Besucherbergwerk Grube Wenzel
X-ALT-DESC;FMTTYPE=text/html:<strong>Kurzbeschreibung:</strong><br/>Täglich
  Spannende Führungen unter Tage bietet das Besucherbergwerk Grube Wenzel i
 n Oberwolfach.<br /><strong>Ort:</strong><br/>Besucherbergwerk Grube Wenze
 l<br/>Frohnbach 19\, 77709  Oberwolfach<br /><strong>Veranstalter:</strong
 ><br/>Gemeinde Oberwolfach<br /><strong>Termin:</strong><br/>Beginn: 21.04
 .2026<br/>Ende: 21.04.2026<br /><strong>Link:</strong><br/><a href='https:
 //ortenaukultur.de/de/veranstaltungen/detail/veranstaltung/id/587549-fuehr
 ungen-durch-das-besucherbergwerk-grube-wenzel-in-oberwolfach/?vt=1'>Zur De
 tailseite</a>
END:VEVENT
END:VCALENDAR
