BEGIN:VCALENDAR
VERSION:2.0
PRODID:-//ortenaukultur.de//NONSGML kigkonsult.se iCalcreator 2.41.92//
CALSCALE:GREGORIAN
METHOD:PUBLISH
UID:37613963-3633-4732-a231-666538366331
X-WR-TIMEZONE:Europe/Berlin
X-LIC-LOCATION:Europe/Berlin
BEGIN:VEVENT
UID:590235-kulturportal@ortenaukultur.de
DTSTAMP:20260421T170941Z
DESCRIPTION:Kurzbeschreibung:\n Kurs für Kinder von 8 bis 12 Jahren in der 
 stadtgeschichtlichen Dauerausstellung des Ritterhauses\n Ort:\n Museum im 
 Ritterhaus\n Ritterstr. 10\, 77652 Offenburg\n Veranstalter:\n Museum im R
 itterhaus Offenburg\n Termin:\n Beginn: 13.05.2026\, 15:00 Uhr\n Ende: 13.
 05.2026\n Link:\n Zur Detailseite
DTSTART;TZID=Europe/Berlin:20260513T150000
DTEND;TZID=Europe/Berlin:20260513T180000
LOCATION:Museum im Ritterhaus\, Ritterstr. 10\, 77652 Offenburg
SUMMARY:Offenburg im Mittelalter\, Museum im Ritterhaus
X-ALT-DESC;FMTTYPE=text/html:<strong>Kurzbeschreibung:</strong><br/>Kurs fü
 r Kinder von 8 bis 12 Jahren in der stadtgeschichtlichen Dauerausstellung 
 des Ritterhauses<br /><strong>Ort:</strong><br/>Museum im Ritterhaus<br/>R
 itterstr. 10\, 77652 Offenburg<br /><strong>Veranstalter:</strong><br/>Mus
 eum im Ritterhaus Offenburg<br /><strong>Termin:</strong><br/>Beginn: 13.0
 5.2026\, 15:00 Uhr<br/>Ende: 13.05.2026<br /><strong>Link:</strong><br/><a
  href='https://ortenaukultur.de/de/veranstaltungen/detail/veranstaltung/id
 /590235-offenburg-im-mittelalter/?vt=1'>Zur Detailseite</a>
END:VEVENT
END:VCALENDAR
