BEGIN:VCALENDAR
VERSION:2.0
PRODID:-//ortenaukultur.de//NONSGML kigkonsult.se iCalcreator 2.41.92//
CALSCALE:GREGORIAN
METHOD:PUBLISH
UID:34356432-6162-4138-b332-383065343830
X-WR-TIMEZONE:Europe/Berlin
X-LIC-LOCATION:Europe/Berlin
BEGIN:VEVENT
UID:590335-kulturportal@ortenaukultur.de
DTSTAMP:20260421T200701Z
DESCRIPTION:Kurzbeschreibung:\n Internationaler Museumstag - Kostenlose Füh
 rung für Familien mit Kindern ab 6 Jahren durch das ganze Ritterhaus\n Ort
 :\n Museum im Ritterhaus\n Ritterstr. 10\, 77652 Offenburg\n Veranstalter:
 \n Museum im Ritterhaus Offenburg\n Termin:\n Beginn: 17.05.2026\, 13:00 U
 hr\n Ende: 17.05.2026\n Link:\n Zur Detailseite
DTSTART;TZID=Europe/Berlin:20260517T130000
DTEND;TZID=Europe/Berlin:20260517T160000
LOCATION:Museum im Ritterhaus\, Ritterstr. 10\, 77652 Offenburg
SUMMARY:Auf Tour im Museum\, Museum im Ritterhaus
X-ALT-DESC;FMTTYPE=text/html:<strong>Kurzbeschreibung:</strong><br/>Interna
 tionaler Museumstag - Kostenlose Führung für Familien mit Kindern ab 6 Jah
 ren durch das  ganze Ritterhaus<br /><strong>Ort:</strong><br/>Museum im R
 itterhaus<br/>Ritterstr. 10\, 77652 Offenburg<br /><strong>Veranstalter:</
 strong><br/>Museum im Ritterhaus Offenburg<br /><strong>Termin:</strong><b
 r/>Beginn: 17.05.2026\, 13:00 Uhr<br/>Ende: 17.05.2026<br /><strong>Link:<
 /strong><br/><a href='https://ortenaukultur.de/de/veranstaltungen/detail/v
 eranstaltung/id/590335-auf-tour-im-museum/?vt=1'>Zur Detailseite</a>
END:VEVENT
END:VCALENDAR
