BEGIN:VCALENDAR
VERSION:2.0
PRODID:-//ortenaukultur.de//NONSGML kigkonsult.se iCalcreator 2.41.92//
CALSCALE:GREGORIAN
METHOD:PUBLISH
UID:66643135-3063-4535-a363-636362343264
X-WR-TIMEZONE:Europe/Berlin
X-LIC-LOCATION:Europe/Berlin
BEGIN:VEVENT
UID:590342-kulturportal@ortenaukultur.de
DTSTAMP:20260421T210304Z
DESCRIPTION:Kurzbeschreibung:\n Ein Kurs für Kinder zwischen 5 und 7 Jahren
  in der Naturkundeabteilung des Museums.\n Ort:\n Museum im Ritterhaus\n R
 itterstr. 10\, 77652 Offenburg\n Veranstalter:\n Museum im Ritterhaus Offe
 nburg\n Termin:\n Beginn: 20.05.2026\, 15:00 Uhr\n Ende: 20.05.2026\n Link
 :\n Zur Detailseite
DTSTART;TZID=Europe/Berlin:20260520T150000
DTEND;TZID=Europe/Berlin:20260520T180000
LOCATION:Museum im Ritterhaus\, Ritterstr. 10\, 77652 Offenburg
SUMMARY:Naturstrolche. Unterwegs im Ökosystem Wald \, Museum im Ritterhaus
X-ALT-DESC;FMTTYPE=text/html:<strong>Kurzbeschreibung:</strong><br/>Ein Kur
 s für Kinder zwischen 5 und 7 Jahren in der Naturkundeabteilung des Museum
 s.<br /><strong>Ort:</strong><br/>Museum im Ritterhaus<br/>Ritterstr. 10\,
  77652 Offenburg<br /><strong>Veranstalter:</strong><br/>Museum im Ritterh
 aus Offenburg<br /><strong>Termin:</strong><br/>Beginn: 20.05.2026\, 15:00
  Uhr<br/>Ende: 20.05.2026<br /><strong>Link:</strong><br/><a href='https:/
 /ortenaukultur.de/de/veranstaltungen/detail/veranstaltung/id/590342-naturs
 trolche-unterwegs-im-oekosystem-wald/?vt=1'>Zur Detailseite</a>
END:VEVENT
END:VCALENDAR
