BEGIN:VCALENDAR
VERSION:2.0
PRODID:-//ortenaukultur.de//NONSGML kigkonsult.se iCalcreator 2.41.92//
CALSCALE:GREGORIAN
METHOD:PUBLISH
UID:33316235-3366-4839-b035-356130616434
X-WR-TIMEZONE:Europe/Berlin
X-LIC-LOCATION:Europe/Berlin
BEGIN:VEVENT
UID:590344-kulturportal@ortenaukultur.de
DTSTAMP:20260421T222000Z
DESCRIPTION:Kurzbeschreibung:\n Unterirdische Stadtführung durch Offenburg 
 für Familien mit Kindern ab 6 Jahren\n Ort:\n Museum im Ritterhaus\n Ritte
 rstr. 10\, 77652 Offenburg\n Veranstalter:\n Museum im Ritterhaus Offenbur
 g\n Termin:\n Beginn: 31.05.2026\, 14:30 Uhr\n Ende: 31.05.2026\n Link:\n 
 Zur Detailseite
DTSTART;TZID=Europe/Berlin:20260531T143000
DTEND;TZID=Europe/Berlin:20260531T173000
LOCATION:Museum im Ritterhaus\, Ritterstr. 10\, 77652 Offenburg
SUMMARY:Kellergeschichten\, Museum im Ritterhaus
X-ALT-DESC;FMTTYPE=text/html:<strong>Kurzbeschreibung:</strong><br/>Unterir
 dische Stadtführung durch Offenburg für Familien mit  Kindern ab 6 Jahren 
 <br /><strong>Ort:</strong><br/>Museum im Ritterhaus<br/>Ritterstr. 10\, 7
 7652 Offenburg<br /><strong>Veranstalter:</strong><br/>Museum im Ritterhau
 s Offenburg<br /><strong>Termin:</strong><br/>Beginn: 31.05.2026\, 14:30 U
 hr<br/>Ende: 31.05.2026<br /><strong>Link:</strong><br/><a href='https://o
 rtenaukultur.de/de/veranstaltungen/detail/veranstaltung/id/590344-kellerge
 schichten/?vt=1'>Zur Detailseite</a>
END:VEVENT
END:VCALENDAR
