BEGIN:VCALENDAR
VERSION:2.0
PRODID:-//ortenaukultur.de//NONSGML kigkonsult.se iCalcreator 2.41.92//
CALSCALE:GREGORIAN
METHOD:PUBLISH
UID:32376362-3132-4364-a636-616434333534
X-WR-TIMEZONE:Europe/Berlin
X-LIC-LOCATION:Europe/Berlin
BEGIN:VEVENT
UID:590614-kulturportal@ortenaukultur.de
DTSTAMP:20260421T183217Z
DESCRIPTION:Kurzbeschreibung:\n Kurs für Kinder von 5 Jahren in der Dauerau
 sstellung des Museums im Ritterhaus\n Ort:\n Museum im Ritterhaus\n Ritter
 str. 10\, 77652 Offenburg\n Veranstalter:\n Museum im Ritterhaus Offenburg
 \n Termin:\n Beginn: 22.07.2026\, 15:00 Uhr\n Ende: 22.07.2026\n Link:\n Z
 ur Detailseite
DTSTART;TZID=Europe/Berlin:20260722T150000
DTEND;TZID=Europe/Berlin:20260722T180000
LOCATION:Museum im Ritterhaus\, Ritterstr. 10\, 77652 Offenburg
SUMMARY:Abenteuer Eisenbahn                              \, Museum im Ritte
 rhaus
X-ALT-DESC;FMTTYPE=text/html:<strong>Kurzbeschreibung:</strong><br/>Kurs fü
 r Kinder von 5 Jahren in der Dauerausstellung des Museums im Ritterhaus\n
 \n\n\n<br /><strong>Ort:</strong><br/>Museum im Ritterhaus<br/>Ritterstr. 
 10\, 77652 Offenburg<br /><strong>Veranstalter:</strong><br/>Museum im Rit
 terhaus Offenburg<br /><strong>Termin:</strong><br/>Beginn: 22.07.2026\, 1
 5:00 Uhr<br/>Ende: 22.07.2026<br /><strong>Link:</strong><br/><a href='htt
 ps://ortenaukultur.de/de/veranstaltungen/detail/veranstaltung/id/590614-ab
 enteuer-eisenbahn/?vt=1'>Zur Detailseite</a>
END:VEVENT
END:VCALENDAR
