BEGIN:VCALENDAR
VERSION:2.0
PRODID:-//ortenaukultur.de//NONSGML kigkonsult.se iCalcreator 2.41.92//
CALSCALE:GREGORIAN
METHOD:PUBLISH
UID:34613535-6133-4833-b438-623836393038
X-WR-TIMEZONE:Europe/Berlin
X-LIC-LOCATION:Europe/Berlin
BEGIN:VEVENT
UID:590616-kulturportal@ortenaukultur.de
DTSTAMP:20260421T190601Z
DESCRIPTION:Kurzbeschreibung:\n Ferienspaß-Kurs für Kinder von 5 - 9 Jahren
  in der Naturkundeabteilung\n Ort:\n Museum im Ritterhaus\n Ritterstr. 10\
 , 77652 Offenburg\n Veranstalter:\n Museum im Ritterhaus Offenburg\n Termi
 n:\n Beginn: 05.08.2026\, 10:00 Uhr\n Ende: 05.08.2026\n Link:\n Zur Detai
 lseite
DTSTART;TZID=Europe/Berlin:20260805T100000
DTEND;TZID=Europe/Berlin:20260805T130000
LOCATION:Museum im Ritterhaus\, Ritterstr. 10\, 77652 Offenburg
SUMMARY:Wald - Land - Fluss\, Schwerpunkt Sommer\, Museum im Ritterhaus
X-ALT-DESC;FMTTYPE=text/html:<strong>Kurzbeschreibung:</strong><br/>Feriens
 paß-Kurs für Kinder von 5 - 9 Jahren in der Naturkundeabteilung<br /><stro
 ng>Ort:</strong><br/>Museum im Ritterhaus<br/>Ritterstr. 10\, 77652 Offenb
 urg<br /><strong>Veranstalter:</strong><br/>Museum im Ritterhaus Offenburg
 <br /><strong>Termin:</strong><br/>Beginn: 05.08.2026\, 10:00 Uhr<br/>Ende
 : 05.08.2026<br /><strong>Link:</strong><br/><a href='https://ortenaukultu
 r.de/de/veranstaltungen/detail/veranstaltung/id/590616-wald-land-fluss-sch
 werpunkt-sommer/?vt=1'>Zur Detailseite</a>
END:VEVENT
END:VCALENDAR
