BEGIN:VCALENDAR
VERSION:2.0
PRODID:-//ortenaukultur.de//NONSGML kigkonsult.se iCalcreator 2.41.92//
CALSCALE:GREGORIAN
METHOD:PUBLISH
UID:65616238-3939-4739-a639-663535303631
X-WR-TIMEZONE:Europe/Berlin
X-LIC-LOCATION:Europe/Berlin
BEGIN:VEVENT
UID:590620-kulturportal@ortenaukultur.de
DTSTAMP:20260422T023300Z
DESCRIPTION:Kurzbeschreibung:\n Ferienspaß-Kurs für Kinder zwischen 5 und 7
  Jahren in der Naturkundeabteilung des Museums.\n Ort:\n Museum im Ritterh
 aus\n Ritterstr. 10\, 77652 Offenburg\n Veranstalter:\n Museum im Ritterha
 us Offenburg\n Termin:\n Beginn: 06.08.2026\, 10:00 Uhr\n Ende: 06.08.2026
 \n Link:\n Zur Detailseite
DTSTART;TZID=Europe/Berlin:20260806T100000
DTEND;TZID=Europe/Berlin:20260806T130000
LOCATION:Museum im Ritterhaus\, Ritterstr. 10\, 77652 Offenburg
SUMMARY:Naturstrolche. Unterwegs im Ökosystem Wald  (Kopie)\, Museum im Rit
 terhaus
X-ALT-DESC;FMTTYPE=text/html:<strong>Kurzbeschreibung:</strong><br/>Feriens
 paß-Kurs für Kinder zwischen 5 und 7 Jahren in der Naturkundeabteilung des
  Museums.<br /><strong>Ort:</strong><br/>Museum im Ritterhaus<br/>Ritterst
 r. 10\, 77652 Offenburg<br /><strong>Veranstalter:</strong><br/>Museum im 
 Ritterhaus Offenburg<br /><strong>Termin:</strong><br/>Beginn: 06.08.2026\
 , 10:00 Uhr<br/>Ende: 06.08.2026<br /><strong>Link:</strong><br/><a href='
 https://ortenaukultur.de/de/veranstaltungen/detail/veranstaltung/id/590620
 -naturstrolche-unterwegs-im-oekosystem-wald-kopie/?vt=1'>Zur Detailseite</
 a>
END:VEVENT
END:VCALENDAR
