BEGIN:VCALENDAR
VERSION:2.0
PRODID:-//ortenaukultur.de//NONSGML kigkonsult.se iCalcreator 2.41.92//
CALSCALE:GREGORIAN
METHOD:PUBLISH
UID:66316635-3938-4666-b565-323134366232
X-WR-TIMEZONE:Europe/Berlin
X-LIC-LOCATION:Europe/Berlin
BEGIN:VEVENT
UID:590621-kulturportal@ortenaukultur.de
DTSTAMP:20260421T210101Z
DESCRIPTION:Kurzbeschreibung:\n Ferienspaß-Kurs für Kinder von 9 Jahren in 
 der Historischen Bibliothek des Ritterhauses\n Ort:\n Museum im Ritterhaus
 \n Ritterstr. 10\, 77652 Offenburg\n Veranstalter:\n Museum im Ritterhaus 
 Offenburg\n Termin:\n Beginn: 07.08.2026\, 10:00 Uhr\n Ende: 07.08.2026\n 
 Link:\n Zur Detailseite
DTSTART;TZID=Europe/Berlin:20260807T100000
DTEND;TZID=Europe/Berlin:20260807T130000
LOCATION:Museum im Ritterhaus\, Ritterstr. 10\, 77652 Offenburg
SUMMARY:Druckwerkstatt \, Museum im Ritterhaus
X-ALT-DESC;FMTTYPE=text/html:<strong>Kurzbeschreibung:</strong><br/>Feriens
 paß-Kurs für Kinder von 9 Jahren in der Historischen Bibliothek des Ritter
 hauses<br /><strong>Ort:</strong><br/>Museum im Ritterhaus<br/>Ritterstr. 
 10\, 77652 Offenburg<br /><strong>Veranstalter:</strong><br/>Museum im Rit
 terhaus Offenburg<br /><strong>Termin:</strong><br/>Beginn: 07.08.2026\, 1
 0:00 Uhr<br/>Ende: 07.08.2026<br /><strong>Link:</strong><br/><a href='htt
 ps://ortenaukultur.de/de/veranstaltungen/detail/veranstaltung/id/590621-dr
 uckwerkstatt/?vt=1'>Zur Detailseite</a>
END:VEVENT
END:VCALENDAR
