BEGIN:VCALENDAR
VERSION:2.0
PRODID:-//ortenaukultur.de//NONSGML kigkonsult.se iCalcreator 2.41.92//
CALSCALE:GREGORIAN
METHOD:PUBLISH
UID:62616238-3638-4235-a434-346536653266
X-WR-TIMEZONE:Europe/Berlin
X-LIC-LOCATION:Europe/Berlin
BEGIN:VEVENT
UID:594312-kulturportal@ortenaukultur.de
DTSTAMP:20260421T204215Z
DESCRIPTION:Kurzbeschreibung:\n Am 24. April 2026 lädt die Lange Nacht der 
 Kultur zu einem besonderen Abend voller kultureller Entdeckungen ein.\n Or
 t:\n Reithalle im Kulturforum\n Moltkestraße 31\, 77654 Offenburg\n Verans
 talter:\n Kulturbüro Offenburg\n Termin:\n Beginn: 24.04.2026\, 18:00 Uhr
 \n Ende: 24.04.2026\n Link:\n Zur Detailseite
DTSTART;TZID=Europe/Berlin:20260424T180000
DTEND;TZID=Europe/Berlin:20260424T210000
LOCATION:Reithalle im Kulturforum\, Moltkestraße 31\, 77654 Offenburg
SUMMARY:Lange Nacht der Kultur\, Reithalle im Kulturforum
X-ALT-DESC;FMTTYPE=text/html:<strong>Kurzbeschreibung:</strong><br/>Am 24. 
 April 2026 lädt die Lange Nacht der Kultur zu einem besonderen Abend volle
 r kultureller Entdeckungen ein. <br /><strong>Ort:</strong><br/>Reithalle 
 im Kulturforum<br/>Moltkestraße 31\, 77654 Offenburg<br /><strong>Veransta
 lter:</strong><br/>Kulturbüro Offenburg<br /><strong>Termin:</strong><br/>
 Beginn: 24.04.2026\, 18:00 Uhr<br/>Ende: 24.04.2026<br /><strong>Link:</st
 rong><br/><a href='https://ortenaukultur.de/de/veranstaltungen/detail/vera
 nstaltung/id/594312-lange-nacht-der-kultur/?vt=1'>Zur Detailseite</a>
END:VEVENT
END:VCALENDAR
