BEGIN:VCALENDAR
VERSION:2.0
PRODID:-//ortenaukultur.de//NONSGML kigkonsult.se iCalcreator 2.41.92//
CALSCALE:GREGORIAN
METHOD:PUBLISH
UID:37623731-6265-4736-b133-373836353338
X-WR-TIMEZONE:Europe/Berlin
X-LIC-LOCATION:Europe/Berlin
BEGIN:VEVENT
UID:595148-kulturportal@ortenaukultur.de
DTSTAMP:20260422T040848Z
DESCRIPTION:Kurzbeschreibung:\n Rundflüge - Flammenkuchen\, Kaffee&Waffeln 
 im Naherholungsgebiet am Königswaldsee\n Ort:\n Flugplatz Offenburg am Kön
 igswaldsee\, Offenburg\n Veranstalter:\n Fliegergruppe Offenburg e.V.\n Te
 rmin:\n Beginn: 01.05.2026\n Ende: 01.05.2026\n Tickets:\n Tickets\n Eintr
 itt kostenlos\, Rundflüge 50€\n Link:\n Zur Detailseite
DTSTART;TZID=Europe/Berlin:20260501T000000
DTEND;TZID=Europe/Berlin:20260501T030000
LOCATION:Flugplatz Offenburg am Königswaldsee\, Offenburg
SUMMARY:Tanz in den Mai und 1. Mai auf dem Flugplatz Offenburg\, Flugplatz 
 Offenburg am Königswaldsee
X-ALT-DESC;FMTTYPE=text/html:<strong>Kurzbeschreibung:</strong><br/>Rundflü
 ge - Flammenkuchen\, Kaffee&Waffeln im Naherholungsgebiet am Königswaldsee
 <br /><strong>Ort:</strong><br/>Flugplatz Offenburg am Königswaldsee\, Off
 enburg<br /><strong>Veranstalter:</strong><br/>Fliegergruppe Offenburg e.V
 .<br /><strong>Termin:</strong><br/>Beginn: 01.05.2026<br/>Ende: 01.05.202
 6<br /><strong>Tickets: </strong><br/><a  class='wco_cb_subtitle_link'  id
 ='ticketlink'  href='mailto:som@fliegergruppe-offenburg.de' target='_blank
 ' >Tickets</a><br/>Eintritt kostenlos\, Rundflüge 50€<br /><strong>Link:</
 strong><br/><a href='https://ortenaukultur.de/de/veranstaltungen/detail/ve
 ranstaltung/id/595148-tanz-in-den-mai-und-1-mai-auf-dem-flugplatz-offenbur
 g/?vt=1'>Zur Detailseite</a>
END:VEVENT
END:VCALENDAR
