BEGIN:VCALENDAR
VERSION:2.0
PRODID:-//ortenaukultur.de//NONSGML kigkonsult.se iCalcreator 2.41.92//
CALSCALE:GREGORIAN
METHOD:PUBLISH
UID:30303331-3336-4531-b536-343137313833
X-WR-TIMEZONE:Europe/Berlin
X-LIC-LOCATION:Europe/Berlin
BEGIN:VEVENT
UID:498323-kulturportal@ortenaukultur.de
DTSTAMP:20260421T191015Z
DESCRIPTION:Kurzbeschreibung:\n Try-Out-Konzert der Stadtkapelle Lahr zusam
 men mit dem Golden Harps Gospel Choir. Zwei musikalische Halbzeiten im Vor
 feld des WM-Deutschlandspiels!\n Ort:\n Parktheater\n Kaiserstraße 107\, 7
 7933 Lahr\n Veranstalter:\n Stadtkapelle Lahr e.V.\n Termin:\n Beginn: 20.
 06.2026\n Ende: 20.06.2026\n Tickets:\n Eintritt frei!\n Link:\n Zur Detai
 lseite
DTSTART;TZID=Europe/Berlin:20260620T000000
DTEND;TZID=Europe/Berlin:20260620T030000
LOCATION:Parktheater\, Kaiserstraße 107\, 77933 Lahr
SUMMARY:'Freundschaftsspiel' - Konzert der Stadtkapelle Lahr mit den Golden
  Harps\, Parktheater
X-ALT-DESC;FMTTYPE=text/html:<strong>Kurzbeschreibung:</strong><br/>Try-Out
 -Konzert der Stadtkapelle Lahr zusammen mit dem Golden Harps Gospel Choir.
  Zwei musikalische Halbzeiten im Vorfeld des WM-Deutschlandspiels!<br /><s
 trong>Ort:</strong><br/>Parktheater<br/>Kaiserstraße 107\, 77933 Lahr<br /
 ><strong>Veranstalter:</strong><br/>Stadtkapelle Lahr e.V.<br /><strong>Te
 rmin:</strong><br/>Beginn: 20.06.2026<br/>Ende: 20.06.2026<br /><strong>Ti
 ckets: </strong><br/>Eintritt frei!<br /><strong>Link:</strong><br/><a hre
 f='https://ortenaukultur.de/de/veranstaltungen/detail/veranstaltung/id/498
 323-freundschaftsspiel-konzert-der-stadtkapelle-lahr-mit-den-golden-harps/
 ?vt=1'>Zur Detailseite</a>
END:VEVENT
END:VCALENDAR
