BEGIN:VCALENDAR
VERSION:2.0
PRODID:-//ortenaukultur.de//NONSGML kigkonsult.se iCalcreator 2.41.92//
CALSCALE:GREGORIAN
METHOD:PUBLISH
UID:65376236-3336-4131-b030-386231353364
X-WR-TIMEZONE:Europe/Berlin
X-LIC-LOCATION:Europe/Berlin
BEGIN:VEVENT
UID:505765-kulturportal@ortenaukultur.de
DTSTAMP:20260422T001447Z
DESCRIPTION:Kurzbeschreibung:\n Dieses Jahr findet der Weihnachtsmarkt wied
 er zwischen dem Narrenkeller und der Gemeindehalle statt.\n Ort:\n Hauptst
 raße 41\, 77796 Mühlenbach \, Mühlenbach\n Veranstalter:\n Gemeindeverwalt
 ung Mühlenbach\n Termin:\n Beginn: 27.11.2026\n Ende: 27.11.2026\n Link:\n
  Zur Detailseite
DTSTART;TZID=Europe/Berlin:20261127T000000
DTEND;TZID=Europe/Berlin:20261127T030000
LOCATION:Hauptstraße 41\, 77796 Mühlenbach \, Mühlenbach
SUMMARY:Weihnachtsmarkt\, Hauptstraße 41\, 77796 Mühlenbach
X-ALT-DESC;FMTTYPE=text/html:<strong>Kurzbeschreibung:</strong><br/>Dieses 
 Jahr findet der Weihnachtsmarkt wieder zwischen dem Narrenkeller und der G
 emeindehalle statt.<br /><strong>Ort:</strong><br/>Hauptstraße 41\, 77796 
 Mühlenbach \, Mühlenbach<br /><strong>Veranstalter:</strong><br/>Gemeindev
 erwaltung Mühlenbach <br /><strong>Termin:</strong><br/>Beginn: 27.11.2026
 <br/>Ende: 27.11.2026<br /><strong>Link:</strong><br/><a href='https://ort
 enaukultur.de/de/veranstaltungen/detail/veranstaltung/id/505765-weihnachts
 markt/?vt=1'>Zur Detailseite</a>
END:VEVENT
END:VCALENDAR
