BEGIN:VCALENDAR
VERSION:2.0
PRODID:-//ortenaukultur.de//NONSGML kigkonsult.se iCalcreator 2.41.92//
CALSCALE:GREGORIAN
METHOD:PUBLISH
UID:61386232-6563-4137-a166-386565383334
X-WR-TIMEZONE:Europe/Berlin
X-LIC-LOCATION:Europe/Berlin
BEGIN:VEVENT
UID:537700-kulturportal@ortenaukultur.de
DTSTAMP:20260421T222630Z
DESCRIPTION:Kurzbeschreibung:\n Erlebt einen Hauch von der Leichtigkeit des
  Seins bei einer musikalischen Lesung in unserem Theatergarten unter Freil
 ichthimmel\n Ort:\n Theaterwelt\n Römerstr. 82\, 77694 Kehl-Goldscheuer\n 
 Veranstalter:\n Theaterwelt\n Termin:\n Beginn: 13.06.2026\, 20:30 Uhr\n E
 nde: 13.06.2026\n Tickets:\n info@theater-welt.de\n 17€ / 15€ ermäßigt\n L
 ink:\n Zur Detailseite
DTSTART;TZID=Europe/Berlin:20260613T203000
DTEND;TZID=Europe/Berlin:20260613T233000
LOCATION:Theaterwelt\, Römerstr. 82\, 77694 Kehl-Goldscheuer
SUMMARY:Theaterbrise\, Theaterwelt
X-ALT-DESC;FMTTYPE=text/html:<strong>Kurzbeschreibung:</strong><br/>Erlebt 
 einen Hauch von der Leichtigkeit des Seins\nbei einer musikalischen Lesung
 \nin unserem Theatergarten unter Freilichthimmel<br /><strong>Ort:</strong
 ><br/>Theaterwelt<br/>Römerstr. 82\, 77694 Kehl-Goldscheuer<br /><strong>V
 eranstalter:</strong><br/>Theaterwelt<br /><strong>Termin:</strong><br/>Be
 ginn: 13.06.2026\, 20:30 Uhr<br/>Ende: 13.06.2026<br /><strong>Tickets: </
 strong><br/><a  class='wco_cb_subtitle_link'  id='ticketlink'  href='mailt
 o:info@theater-welt.de' target='_blank' >info@theater-welt.de</a><br/>17€ 
 / 15€ ermäßigt<br /><strong>Link:</strong><br/><a href='https://ortenaukul
 tur.de/de/veranstaltungen/detail/veranstaltung/id/537700-theaterbrise/?vt=
 1'>Zur Detailseite</a>
END:VEVENT
END:VCALENDAR
