BEGIN:VCALENDAR
VERSION:2.0
PRODID:-//ortenaukultur.de//NONSGML kigkonsult.se iCalcreator 2.41.92//
CALSCALE:GREGORIAN
METHOD:PUBLISH
UID:33663435-3064-4566-b535-323738383662
X-WR-TIMEZONE:Europe/Berlin
X-LIC-LOCATION:Europe/Berlin
BEGIN:VEVENT
UID:556483-kulturportal@ortenaukultur.de
DTSTAMP:20260421T155604Z
DESCRIPTION:Kurzbeschreibung:\n »Wir neigen dazu\, Erfolg eher nach … der G
 röße unserer Autos zu bestimmen als nach dem Maß unserer Menschlichkeit.« 
 Dr. Martin Luther King\n Ort:\n Parktheater\n Kaiserstraße 107\, 77933 Lah
 r\n Veranstalter:\n LahrKultur\n Termin:\n Beginn: 06.05.2026\, 20:00 Uhr
 \n Ende: 06.05.2026\n Tickets:\n Tickets kaufen\n https://ortenaukultur.re
 servix.de/p/reservix/event/2385611\n 1. Platz:\n bis 24\,10 € + Ermäßigung
 \n 2. Platz:\n bis 20\,80 € + Ermäßigung\n 3. Platz:\n bis 16\,40 € + Ermä
 ßigung\n 4. Platz:\n bis 10\,90 € + Ermäßigung\n *Preise inkl. MwSt.\n \n 
 Link:\n Zur Detailseite
DTSTART;TZID=Europe/Berlin:20260506T200000
DTEND;TZID=Europe/Berlin:20260506T230000
LOCATION:Parktheater\, Kaiserstraße 107\, 77933 Lahr
SUMMARY:Miss Daisy und ihr Chauffeur\, Parktheater
X-ALT-DESC;FMTTYPE=text/html:<strong>Kurzbeschreibung:</strong><br/>»Wir ne
 igen dazu\, Erfolg eher nach … der Größe unserer Autos zu bestimmen als na
 ch dem Maß unserer Menschlichkeit.« Dr. Martin Luther King<br /><strong>Or
 t:</strong><br/>Parktheater<br/>Kaiserstraße 107\, 77933 Lahr<br /><strong
 >Veranstalter:</strong><br/>LahrKultur<br /><strong>Termin:</strong><br/>B
 eginn: 06.05.2026\, 20:00 Uhr<br/>Ende: 06.05.2026<br /><strong>Tickets: <
 /strong><br/><a rel='asdf' href='https://ortenaukultur.de/de/theater/detai
 l/tickets/id/556483-miss-daisy-und-ihr-chauffeur/?follow=https%253A%252F%2
 52Fortenaukultur.reservix.de%252Fp%252Freservix%252Fevent%252F2385611' tar
 get='_blank' title='' id='ticketlink'>Tickets kaufen</a><br/>https://orten
 aukultur.reservix.de/p/reservix/event/2385611<br/><b>1. Platz: </b><br />b
 is 24\,10 &euro\;&nbsp\; + Ermäßigung<br /><b>2. Platz: </b><br />bis 20\,
 80 &euro\;&nbsp\; + Ermäßigung<br /><b>3. Platz: </b><br />bis 16\,40 &eur
 o\;&nbsp\; + Ermäßigung<br /><b>4. Platz: </b><br />bis 10\,90 &euro\;&nbs
 p\; + Ermäßigung<br />*Preise inkl. MwSt.<br /><br /><strong>Link:</strong
 ><br/><a href='https://ortenaukultur.de/de/veranstaltungen/detail/veransta
 ltung/id/556483-miss-daisy-und-ihr-chauffeur/?vt=1'>Zur Detailseite</a>
END:VEVENT
END:VCALENDAR
