BEGIN:VCALENDAR
VERSION:2.0
PRODID:-//ortenaukultur.de//NONSGML kigkonsult.se iCalcreator 2.41.92//
CALSCALE:GREGORIAN
METHOD:PUBLISH
UID:61643966-3536-4536-b865-666235626538
X-WR-TIMEZONE:Europe/Berlin
X-LIC-LOCATION:Europe/Berlin
BEGIN:VEVENT
UID:573256-kulturportal@ortenaukultur.de
DTSTAMP:20260422T023115Z
DESCRIPTION:Kurzbeschreibung:\n Everybody needs somebody to love! Eine eben
 so temporeiche wie energiegeladene Bühnenversion mit schwäbischem Lokalkol
 orit und Live-Band.\n Ort:\n Bürgerhaus Neuer MarktEuropaplatz77815 Bühl\,
  Bühl\n Veranstalter:\n Bürgerhaus Neuer Markt\n Termin:\n Beginn: 28.04.2
 026\, 19:30 Uhr\n Ende: 28.04.2026\n Tickets:\n Tickets\n Vorverkauf KAT I
  28\,00 EURO KAT II 26\,00 EURO KAT III 24\,00 EURO\n Abendkasse KAT I 30\
 ,00 EURO KAT II 28\,00 EURO KAT III 26\,00 EURO\n Link:\n Zur Detailseite
DTSTART;TZID=Europe/Berlin:20260428T193000
DTEND;TZID=Europe/Berlin:20260428T223000
LOCATION:Bürgerhaus Neuer MarktEuropaplatz77815 Bühl\, Bühl
SUMMARY:Die Blues Brothers - Ein Road-Trip trough THE LÄND\, Bürgerhaus Neu
 er MarktEuropaplatz77815 Bühl
X-ALT-DESC;FMTTYPE=text/html:<strong>Kurzbeschreibung:</strong><br/>Everybo
 dy needs somebody to love!  Eine ebenso temporeiche wie energiegeladene Bü
 hnenversion mit schwäbischem Lokalkolorit und Live-Band.<br /><strong>Ort:
 </strong><br/>Bürgerhaus Neuer MarktEuropaplatz77815 Bühl\, Bühl<br /><str
 ong>Veranstalter:</strong><br/>Bürgerhaus Neuer Markt<br /><strong>Termin:
 </strong><br/>Beginn: 28.04.2026\, 19:30 Uhr<br/>Ende: 28.04.2026<br /><st
 rong>Tickets: </strong><br/><a  class='wco_cb_subtitle_link'  id='ticketli
 nk'  href='mailto:info.bnm@buehl.de' target='_blank' >Tickets</a><br/>Vorv
 erkauf       KAT I 28\,00 EURO | KAT II 26\,00 EURO | KAT III 24\,00 EURO 
 <br />\nAbendkasse    KAT I 30\,00 EURO | KAT II 28\,00 EURO | KAT III 26\
 ,00 EURO<br /><strong>Link:</strong><br/><a href='https://ortenaukultur.de
 /de/veranstaltungen/detail/veranstaltung/id/573256-die-blues-brothers-ein-
 road-trip-trough-the-laend/?vt=1'>Zur Detailseite</a>
END:VEVENT
END:VCALENDAR
