BEGIN:VCALENDAR
VERSION:2.0
PRODID:-//ortenaukultur.de//NONSGML kigkonsult.se iCalcreator 2.41.92//
CALSCALE:GREGORIAN
METHOD:PUBLISH
UID:39333739-6162-4265-a431-646465323537
X-WR-TIMEZONE:Europe/Berlin
X-LIC-LOCATION:Europe/Berlin
BEGIN:VEVENT
UID:573921-kulturportal@ortenaukultur.de
DTSTAMP:20260421T174523Z
DESCRIPTION:Kurzbeschreibung:\n Ein Familienstück von Sergej Gößner - Für K
 inder ab 6 Jahren Eine Produktion der Badischen Landesbühne\n Ort:\n Bürge
 rhaus Neuer MarktEuropaplatz77815 Bühl\, Bühl\n Veranstalter:\n Bürgerhaus
  Neuer Markt\n Termin:\n Beginn: 30.04.2026\, 16:30 Uhr\n Ende: 30.04.2026
 \n Tickets:\n Tickets\n Erwachsene 13 € Kinder 10 €\n Link:\n Zur Detailse
 ite
DTSTART;TZID=Europe/Berlin:20260430T163000
DTEND;TZID=Europe/Berlin:20260430T193000
LOCATION:Bürgerhaus Neuer MarktEuropaplatz77815 Bühl\, Bühl
SUMMARY:Rotkäppchen und Herr Wolff\, Bürgerhaus Neuer MarktEuropaplatz77815
  Bühl
X-ALT-DESC;FMTTYPE=text/html:<strong>Kurzbeschreibung:</strong><br/>Ein Fam
 ilienstück von Sergej Gößner - Für Kinder ab 6 Jahren\nEine Produktion der
  Badischen Landesbühne<br /><strong>Ort:</strong><br/>Bürgerhaus Neuer Mar
 ktEuropaplatz77815 Bühl\, Bühl<br /><strong>Veranstalter:</strong><br/>Bür
 gerhaus Neuer Markt<br /><strong>Termin:</strong><br/>Beginn: 30.04.2026\,
  16:30 Uhr<br/>Ende: 30.04.2026<br /><strong>Tickets: </strong><br/><a  cl
 ass='wco_cb_subtitle_link'  id='ticketlink'  href='mailto:info.bnm@buehl.d
 e' target='_blank' >Tickets</a><br/>Erwachsene 13 € | Kinder 10 €<br /><st
 rong>Link:</strong><br/><a href='https://ortenaukultur.de/de/veranstaltung
 en/detail/veranstaltung/id/573921-rotkaeppchen-und-herr-wolff/?vt=1'>Zur D
 etailseite</a>
END:VEVENT
END:VCALENDAR
