BEGIN:VCALENDAR
VERSION:2.0
PRODID:-//ortenaukultur.de//NONSGML kigkonsult.se iCalcreator 2.41.92//
CALSCALE:GREGORIAN
METHOD:PUBLISH
UID:65303432-6464-4662-b435-353332333531
X-WR-TIMEZONE:Europe/Berlin
X-LIC-LOCATION:Europe/Berlin
BEGIN:VEVENT
UID:580155-kulturportal@ortenaukultur.de
DTSTAMP:20260421T230347Z
DESCRIPTION:Kurzbeschreibung:\n Adventsstimmung mit vielen Verkaufsständen 
 in der schönen Innenstadt. Die Geschäfte sind geöffnet. Knusperhäuschen im
  Prinzengarten.\n Ort:\n Ettenheim Innenstadt\n Friedrichstraße/Rohanstraß
 e\, 77955 Ettenheim\n Veranstalter:\n Unternehmen Ettenheim e.V. (Prz)\n T
 ermin:\n Beginn: 27.11.2026\, 16:00 Uhr\n Ende: 27.11.2026\n Link:\n Zur D
 etailseite
DTSTART;TZID=Europe/Berlin:20261127T160000
DTEND;TZID=Europe/Berlin:20261127T190000
LOCATION:Ettenheim Innenstadt\, Friedrichstraße/Rohanstraße\, 77955 Ettenhe
 im
SUMMARY:Weihnachtsmarkt in Ettenheim\, Ettenheim Innenstadt
X-ALT-DESC;FMTTYPE=text/html:<strong>Kurzbeschreibung:</strong><br/>Advents
 stimmung mit vielen Verkaufsständen in der schönen Innenstadt. Die Geschäf
 te sind geöffnet. Knusperhäuschen im Prinzengarten.<br /><strong>Ort:</str
 ong><br/>Ettenheim Innenstadt<br/>Friedrichstraße/Rohanstraße\, 77955 Ette
 nheim<br /><strong>Veranstalter:</strong><br/>Unternehmen Ettenheim e.V. (
 Prz)<br /><strong>Termin:</strong><br/>Beginn: 27.11.2026\, 16:00 Uhr<br/>
 Ende: 27.11.2026<br /><strong>Link:</strong><br/><a href='https://ortenauk
 ultur.de/de/veranstaltungen/detail/veranstaltung/id/580155-weihnachtsmarkt
 -in-ettenheim/?vt=1'>Zur Detailseite</a>
END:VEVENT
END:VCALENDAR
