BEGIN:VCALENDAR
VERSION:2.0
PRODID:-//ortenaukultur.de//NONSGML kigkonsult.se iCalcreator 2.41.92//
CALSCALE:GREGORIAN
METHOD:PUBLISH
UID:66613165-3263-4864-a663-393336363665
X-WR-TIMEZONE:Europe/Berlin
X-LIC-LOCATION:Europe/Berlin
BEGIN:VEVENT
UID:580437-kulturportal@ortenaukultur.de
DTSTAMP:20260421T222509Z
DESCRIPTION:Kurzbeschreibung:\n Alfons - Klasse ! Ein Wiedersehen mit Alfon
 s und seinem neuen Programm in der Reithalle Offenburg.\n Ort:\n Reithalle
  im Kulturforum\n Moltkestraße 31\, 77654 Offenburg\n Veranstalter:\n Kult
 urbüro Offenburg\n Termin:\n Beginn: 21.11.2026\, 20:00 Uhr\n Ende: 21.11.
 2026\n Tickets:\n Tickets kaufen\n https://ortenaukultur.reservix.de/p/res
 ervix/event/2426094\n 1. Kategorie:\n bis 31\,80 € + Ermäßigung\n *Preise 
 inkl. MwSt.\n \n Link:\n Zur Detailseite
DTSTART;TZID=Europe/Berlin:20261121T200000
DTEND;TZID=Europe/Berlin:20261121T230000
LOCATION:Reithalle im Kulturforum\, Moltkestraße 31\, 77654 Offenburg
SUMMARY:Alfons - Klasse !\, Reithalle im Kulturforum
X-ALT-DESC;FMTTYPE=text/html:<strong>Kurzbeschreibung:</strong><br/>Alfons 
 - Klasse ! Ein Wiedersehen mit Alfons und seinem neuen Programm in der Rei
 thalle Offenburg.<br /><strong>Ort:</strong><br/>Reithalle im Kulturforum<
 br/>Moltkestraße 31\, 77654 Offenburg<br /><strong>Veranstalter:</strong><
 br/>Kulturbüro Offenburg<br /><strong>Termin:</strong><br/>Beginn: 21.11.2
 026\, 20:00 Uhr<br/>Ende: 21.11.2026<br /><strong>Tickets: </strong><br/><
 a rel='asdf' href='https://ortenaukultur.de/de/theater/detail/tickets/id/5
 80437-alfons-klasse/?follow=https%253A%252F%252Fortenaukultur.reservix.de%
 252Fp%252Freservix%252Fevent%252F2426094' target='_blank' title='' id='tic
 ketlink'>Tickets kaufen</a><br/>https://ortenaukultur.reservix.de/p/reserv
 ix/event/2426094<br/><b>1. Kategorie: </b><br />bis 31\,80 &euro\;&nbsp\; 
 + Ermäßigung<br />*Preise inkl. MwSt.<br /><br /><strong>Link:</strong><br
 /><a href='https://ortenaukultur.de/de/veranstaltungen/detail/veranstaltun
 g/id/580437-alfons-klasse/?vt=1'>Zur Detailseite</a>
END:VEVENT
END:VCALENDAR
