BEGIN:VCALENDAR
VERSION:2.0
PRODID:-//ortenaukultur.de//NONSGML kigkonsult.se iCalcreator 2.41.92//
CALSCALE:GREGORIAN
METHOD:PUBLISH
UID:35323131-6465-4632-a435-663333616661
X-WR-TIMEZONE:Europe/Berlin
X-LIC-LOCATION:Europe/Berlin
BEGIN:VEVENT
UID:581296-kulturportal@ortenaukultur.de
DTSTAMP:20260421T155802Z
DESCRIPTION:Kurzbeschreibung:\n Das neue Programm der Kabarettistin Helga B
 ecker verspricht beste Unterhaltung\, musikalische Highlights und schwäbis
 ch-philosophische Gedankensprünge.\n Ort:\n KKW Kulturkeller in der Winter
 schule\n Stammgässle 2\, 77955 Ettenheim\n Veranstalter:\n KKW\, Kulturkel
 ler in der Winterschule\n Termin:\n Beginn: 09.05.2026\, 20:00 Uhr\n Ende:
  09.05.2026\n Tickets:\n 16\,- € Vorverkauf\, 17\,- € Abendkasse\, ABO-Pre
 is möglich\n Link:\n Zur Detailseite
DTSTART;TZID=Europe/Berlin:20260509T200000
DTEND;TZID=Europe/Berlin:20260509T230000
LOCATION:KKW Kulturkeller in der Winterschule\, Stammgässle 2\, 77955 Etten
 heim
SUMMARY:FAHNDUNG LÄUFT! Mitmachen und totlachen!\, KKW Kulturkeller in der 
 Winterschule
X-ALT-DESC;FMTTYPE=text/html:<strong>Kurzbeschreibung:</strong><br/>Das neu
 e Programm der Kabarettistin Helga Becker verspricht beste Unterhaltung\, 
 musikalische Highlights und schwäbisch-philosophische Gedankensprünge.<br 
 /><strong>Ort:</strong><br/>KKW Kulturkeller in der Winterschule<br/>Stamm
 gässle 2\, 77955 Ettenheim<br /><strong>Veranstalter:</strong><br/>KKW\, K
 ulturkeller in der Winterschule<br /><strong>Termin:</strong><br/>Beginn: 
 09.05.2026\, 20:00 Uhr<br/>Ende: 09.05.2026<br /><strong>Tickets: </strong
 ><br/>16\,- € Vorverkauf\, 17\,- € Abendkasse\, ABO-Preis möglich<br /><st
 rong>Link:</strong><br/><a href='https://ortenaukultur.de/de/veranstaltung
 en/detail/veranstaltung/id/581296-fahndung-laeuft-mitmachen-und-totlachen/
 ?vt=1'>Zur Detailseite</a>
END:VEVENT
END:VCALENDAR
