BEGIN:VCALENDAR
VERSION:2.0
PRODID:-//ortenaukultur.de//NONSGML kigkonsult.se iCalcreator 2.41.92//
CALSCALE:GREGORIAN
METHOD:PUBLISH
UID:33383664-3231-4538-b865-333362326161
X-WR-TIMEZONE:Europe/Berlin
X-LIC-LOCATION:Europe/Berlin
BEGIN:VEVENT
UID:581570-kulturportal@ortenaukultur.de
DTSTAMP:20260421T223013Z
DESCRIPTION:Kurzbeschreibung:\n Eine Geschichte von Jürgen von Bülow über L
 ebenslust\, List und Leidenschaft - mitten im Schwarzwald. Inszeniert von 
 der Burgbühne Oberkirch.\n Ort:\n im Garten des 'freche hus'\n Apothekerga
 sse 7\, 77704 Oberkirch\n Veranstalter:\n Burgbühne Oberkirch\n Termin:\n 
 Beginn: 26.06.2026\, 20:00 Uhr\n Ende: 26.06.2026\n Tickets:\n Tickets kau
 fen\n https://ortenaukultur.reservix.de/p/reservix/event/2523766\n Preise:
 \n bis 16\,00 € + Ermäßigung\n *Preise inkl. MwSt.\n \n Link:\n Zur Detail
 seite
DTSTART;TZID=Europe/Berlin:20260626T200000
DTEND;TZID=Europe/Berlin:20260626T230000
LOCATION:im Garten des 'freche hus'\, Apothekergasse 7\, 77704 Oberkirch
SUMMARY:Annas Herzstück (Freilichttheater)\, im Garten des 'freche hus'
X-ALT-DESC;FMTTYPE=text/html:<strong>Kurzbeschreibung:</strong><br/>Eine Ge
 schichte von Jürgen von Bülow über Lebenslust\, List und Leidenschaft - mi
 tten im Schwarzwald. Inszeniert von der Burgbühne Oberkirch.<br /><strong>
 Ort:</strong><br/>im Garten des 'freche hus'<br/>Apothekergasse 7\, 77704 
 Oberkirch<br /><strong>Veranstalter:</strong><br/>Burgbühne Oberkirch<br /
 ><strong>Termin:</strong><br/>Beginn: 26.06.2026\, 20:00 Uhr<br/>Ende: 26.
 06.2026<br /><strong>Tickets: </strong><br/><a rel='asdf' href='https://or
 tenaukultur.de/de/theater/detail/tickets/id/581570-annas-herzstueck-freili
 chttheater/?follow=https%253A%252F%252Fortenaukultur.reservix.de%252Fp%252
 Freservix%252Fevent%252F2523766' target='_blank' title='' id='ticketlink'>
 Tickets kaufen</a><br/>https://ortenaukultur.reservix.de/p/reservix/event/
 2523766<br/><b>Preise: </b><br />bis 16\,00 &euro\;&nbsp\; + Ermäßigung<br
  />*Preise inkl. MwSt.<br /><br /><strong>Link:</strong><br/><a href='http
 s://ortenaukultur.de/de/veranstaltungen/detail/veranstaltung/id/581570-ann
 as-herzstueck-freilichttheater/?vt=1'>Zur Detailseite</a>
END:VEVENT
END:VCALENDAR
