BEGIN:VCALENDAR
VERSION:2.0
PRODID:-//ortenaukultur.de//NONSGML kigkonsult.se iCalcreator 2.41.92//
CALSCALE:GREGORIAN
METHOD:PUBLISH
UID:31303732-3230-4231-b263-356663343039
X-WR-TIMEZONE:Europe/Berlin
X-LIC-LOCATION:Europe/Berlin
BEGIN:VEVENT
UID:583165-kulturportal@ortenaukultur.de
DTSTAMP:20260422T024149Z
DESCRIPTION:Kurzbeschreibung:\n Uraufführung des Werks 'Am Fuße des Schwarz
 walds - eine Heimatsinfonie' mit Buchvorstellung\n Ort:\n Erwin-Braun-Hall
 e\n Querstraße 10\, 77704 Oberkirch\n Veranstalter:\n Stadtkapelle Oberkir
 ch/ Stadt Oberkirch\n Termin:\n Beginn: 26.04.2026\, 11:00 Uhr\n Ende: 26.
 04.2026\n Tickets:\n Tickets hier online erhältlich.\n https://eveeno.com/
 stadtrechtejubilaeum\n Eintritt frei.\n Link:\n Zur Detailseite
DTSTART;TZID=Europe/Berlin:20260426T110000
DTEND;TZID=Europe/Berlin:20260426T140000
LOCATION:Erwin-Braun-Halle\, Querstraße 10\, 77704 Oberkirch
SUMMARY:Festakt und Matinéekonzert zum 700-jährigen Stadtrechtejubiläum\, E
 rwin-Braun-Halle
X-ALT-DESC;FMTTYPE=text/html:<strong>Kurzbeschreibung:</strong><br/>Urauffü
 hrung des Werks 'Am Fuße des Schwarzwalds - eine Heimatsinfonie' mit Buchv
 orstellung<br /><strong>Ort:</strong><br/>Erwin-Braun-Halle<br/>Querstraße
  10\, 77704 Oberkirch<br /><strong>Veranstalter:</strong><br/>Stadtkapelle
  Oberkirch/ Stadt Oberkirch<br /><strong>Termin:</strong><br/>Beginn: 26.0
 4.2026\, 11:00 Uhr<br/>Ende: 26.04.2026<br /><strong>Tickets: </strong><br
 /><a  class='wco_cb_subtitle_link'  id='ticketlink'  href='https://eveeno.
 com/stadtrechtejubilaeum' target='_blank' title='Öffnet externen Link in e
 inem neuen Fenster'>Tickets hier online erhältlich.</a><br/>https://eveeno
 .com/stadtrechtejubilaeum<br/>Eintritt frei. <br /><strong>Link:</strong><
 br/><a href='https://ortenaukultur.de/de/veranstaltungen/detail/veranstalt
 ung/id/583165-festakt-und-matineekonzert-zum-700-jaehrigen-stadtrechtejubi
 laeum/?vt=1'>Zur Detailseite</a>
END:VEVENT
END:VCALENDAR
