BEGIN:VCALENDAR
VERSION:2.0
PRODID:-//ortenaukultur.de//NONSGML kigkonsult.se iCalcreator 2.41.92//
CALSCALE:GREGORIAN
METHOD:PUBLISH
UID:38633232-3634-4632-b733-383366306164
X-WR-TIMEZONE:Europe/Berlin
X-LIC-LOCATION:Europe/Berlin
BEGIN:VEVENT
UID:584423-kulturportal@ortenaukultur.de
DTSTAMP:20260422T042655Z
DESCRIPTION:Kurzbeschreibung:\n Mit seinem neuen Programm macht Willy Astor
  2026 wieder halt in Oberkirch.\n Ort:\n Erwin-Braun-Halle\n Querstraße 10
 \, 77704 Oberkirch\n Veranstalter:\n Stadt Oberkirch\n Termin:\n Beginn: 1
 5.10.2026\, 19:00 Uhr\n Ende: 15.10.2026\n Tickets:\n Tickets kaufen\n htt
 ps://ortenaukultur.reservix.de/p/reservix/event/2491549\n Preise:\n 36\,00
  €\n *Preise inkl. MwSt.\n \n Link:\n Zur Detailseite
DTSTART;TZID=Europe/Berlin:20261015T190000
DTEND;TZID=Europe/Berlin:20261015T220000
LOCATION:Erwin-Braun-Halle\, Querstraße 10\, 77704 Oberkirch
SUMMARY:Willy Astor: Reimart und Lachkunde  – Prädikat Wortvoll\, Erwin-Bra
 un-Halle
X-ALT-DESC;FMTTYPE=text/html:<strong>Kurzbeschreibung:</strong><br/>Mit sei
 nem neuen Programm macht Willy Astor 2026 wieder halt in Oberkirch.<br /><
 strong>Ort:</strong><br/>Erwin-Braun-Halle<br/>Querstraße 10\, 77704 Oberk
 irch<br /><strong>Veranstalter:</strong><br/>Stadt Oberkirch<br /><strong>
 Termin:</strong><br/>Beginn: 15.10.2026\, 19:00 Uhr<br/>Ende: 15.10.2026<b
 r /><strong>Tickets: </strong><br/><a rel='asdf' href='https://ortenaukult
 ur.de/de/theater/detail/tickets/id/584423-willy-astor-reimart-und-lachkund
 e-praedikat-wortvoll/?follow=https%253A%252F%252Fortenaukultur.reservix.de
 %252Fp%252Freservix%252Fevent%252F2491549' target='_blank' title='' id='ti
 cketlink'>Tickets kaufen</a><br/>https://ortenaukultur.reservix.de/p/reser
 vix/event/2491549<br/><b>Preise: </b><br />36\,00 &euro\;<br />*Preise ink
 l. MwSt.<br /><br /><strong>Link:</strong><br/><a href='https://ortenaukul
 tur.de/de/veranstaltungen/detail/veranstaltung/id/584423-willy-astor-reima
 rt-und-lachkunde-praedikat-wortvoll/?vt=1'>Zur Detailseite</a>
END:VEVENT
END:VCALENDAR
