BEGIN:VCALENDAR
VERSION:2.0
PRODID:-//ortenaukultur.de//NONSGML kigkonsult.se iCalcreator 2.41.92//
CALSCALE:GREGORIAN
METHOD:PUBLISH
UID:31653039-3162-4530-b135-323365653164
X-WR-TIMEZONE:Europe/Berlin
X-LIC-LOCATION:Europe/Berlin
BEGIN:VEVENT
UID:584997-kulturportal@ortenaukultur.de
DTSTAMP:20260421T190639Z
DESCRIPTION:Kurzbeschreibung:\n Die Narrhalla präsentiert zum Jubiläumsjahr
  “200 Jahre Narrhalla” schwäbische Comedy vom Feinsten.\n Ort:\n Bürgerhau
 s Neuer Markt\n Europaplatz\, 77815 Bühl\n Veranstalter:\n Narrhalla Bühl 
 1826 e. V.\n Termin:\n Beginn: 13.06.2026\, 20:00 Uhr\n Ende: 13.06.2026\n
  Tickets:\n Reservix Tickets online\n https://stadtbuehl.reservix.de/p/res
 ervix/event/2494968\n Vorverkauf : 26\,00 Euro\n Link:\n Zur Detailseite
DTSTART;TZID=Europe/Berlin:20260613T200000
DTEND;TZID=Europe/Berlin:20260613T230000
LOCATION:Bürgerhaus Neuer Markt\, Europaplatz\, 77815 Bühl
SUMMARY:Schwaben Comedy - Gscheidles TV\, Bürgerhaus Neuer Markt
X-ALT-DESC;FMTTYPE=text/html:<strong>Kurzbeschreibung:</strong><br/>Die Nar
 rhalla präsentiert zum Jubiläumsjahr “200 Jahre Narrhalla” schwäbische Com
 edy vom Feinsten.<br /><strong>Ort:</strong><br/>Bürgerhaus Neuer Markt<br
 />Europaplatz\, 77815 Bühl<br /><strong>Veranstalter:</strong><br/>Narrhal
 la Bühl 1826 e. V.<br /><strong>Termin:</strong><br/>Beginn: 13.06.2026\, 
 20:00 Uhr<br/>Ende: 13.06.2026<br /><strong>Tickets: </strong><br/><a  cla
 ss='wco_cb_subtitle_link'  id='ticketlink'  href='https://stadtbuehl.reser
 vix.de/p/reservix/event/2494968' target='_blank' title='Öffnet externen Li
 nk in einem neuen Fenster'>Reservix Tickets online</a><br/>https://stadtbu
 ehl.reservix.de/p/reservix/event/2494968<br/>Vorverkauf : 26\,00 Euro<br /
 ><strong>Link:</strong><br/><a href='https://ortenaukultur.de/de/veranstal
 tungen/detail/veranstaltung/id/584997-schwaben-comedy-gscheidles-tv/?vt=1'
 >Zur Detailseite</a>
END:VEVENT
END:VCALENDAR
