BEGIN:VCALENDAR
VERSION:2.0
PRODID:-//ortenaukultur.de//NONSGML kigkonsult.se iCalcreator 2.41.92//
CALSCALE:GREGORIAN
METHOD:PUBLISH
UID:64376562-6338-4934-b531-396333336237
X-WR-TIMEZONE:Europe/Berlin
X-LIC-LOCATION:Europe/Berlin
BEGIN:VEVENT
UID:585006-kulturportal@ortenaukultur.de
DTSTAMP:20260421T183510Z
DESCRIPTION:Kurzbeschreibung:\n Nouveau Cirque mit der brasilianisch-franzö
 sischen Künstlerin Alice Rende. Eine Kooperation mit dem Maillon Straßburg
 .\n Ort:\n Reithalle im Kulturforum\n Moltkestraße 31\, 77654 Offenburg\n 
 Veranstalter:\n Kulturbüro Offenburg\n Termin:\n Beginn: 20.05.2026\, 20:0
 0 Uhr\n Ende: 20.05.2026\n Tickets:\n Tickets kaufen\n https://ortenaukult
 ur.reservix.de/p/reservix/event/2498090\n 1. Kategorie:\n bis 28\,50 € + E
 rmäßigung\n *Preise inkl. MwSt.\n \n Link:\n Zur Detailseite
DTSTART;TZID=Europe/Berlin:20260520T200000
DTEND;TZID=Europe/Berlin:20260520T230000
LOCATION:Reithalle im Kulturforum\, Moltkestraße 31\, 77654 Offenburg
SUMMARY:FORA \, Reithalle im Kulturforum
X-ALT-DESC;FMTTYPE=text/html:<strong>Kurzbeschreibung:</strong><br/>Nouveau
  Cirque mit der brasilianisch-französischen Künstlerin Alice Rende. Eine K
 ooperation mit dem Maillon Straßburg.<br /><strong>Ort:</strong><br/>Reith
 alle im Kulturforum<br/>Moltkestraße 31\, 77654 Offenburg<br /><strong>Ver
 anstalter:</strong><br/>Kulturbüro Offenburg<br /><strong>Termin:</strong>
 <br/>Beginn: 20.05.2026\, 20:00 Uhr<br/>Ende: 20.05.2026<br /><strong>Tick
 ets: </strong><br/><a rel='asdf' href='https://ortenaukultur.de/de/theater
 /detail/tickets/id/585006-fora/?follow=https%253A%252F%252Fortenaukultur.r
 eservix.de%252Fp%252Freservix%252Fevent%252F2498090' target='_blank' title
 ='' id='ticketlink'>Tickets kaufen</a><br/>https://ortenaukultur.reservix.
 de/p/reservix/event/2498090<br/><b>1. Kategorie: </b><br />bis 28\,50 &eur
 o\;&nbsp\; + Ermäßigung<br />*Preise inkl. MwSt.<br /><br /><strong>Link:<
 /strong><br/><a href='https://ortenaukultur.de/de/veranstaltungen/detail/v
 eranstaltung/id/585006-fora/?vt=1'>Zur Detailseite</a>
END:VEVENT
END:VCALENDAR
