BEGIN:VCALENDAR
VERSION:2.0
PRODID:-//ortenaukultur.de//NONSGML kigkonsult.se iCalcreator 2.41.92//
CALSCALE:GREGORIAN
METHOD:PUBLISH
UID:64336635-3436-4361-b765-363434333839
X-WR-TIMEZONE:Europe/Berlin
X-LIC-LOCATION:Europe/Berlin
BEGIN:VEVENT
UID:585281-kulturportal@ortenaukultur.de
DTSTAMP:20260422T003418Z
DESCRIPTION:Kurzbeschreibung:\n Komödie von William Shakespeare. ENSEMBLE P
 ERSONA in Koproduktion mit dem Stadttheater Schaffhausen (CH).\n Ort:\n Pa
 rktheater\n Kaiserstraße 107\, 77933 Lahr\n Veranstalter:\n LahrKultur\n T
 ermin:\n Beginn: 26.01.2027\, 20:00 Uhr\n Ende: 26.01.2027\n Tickets:\n Ti
 ckets kaufen\n https://ortenaukultur.reservix.de/p/reservix/event/2542317
 \n 1. Platz:\n bis 24\,10 € + Ermäßigung\n 2. Platz:\n bis 20\,80 € + Ermä
 ßigung\n 3. Platz:\n bis 16\,40 € + Ermäßigung\n 4. Platz:\n bis 10\,90 € 
 + Ermäßigung\n *Preise inkl. MwSt.\n \n Link:\n Zur Detailseite
DTSTART;TZID=Europe/Berlin:20270126T200000
DTEND;TZID=Europe/Berlin:20270126T230000
LOCATION:Parktheater\, Kaiserstraße 107\, 77933 Lahr
SUMMARY:Viel Lärm um nichts\, Parktheater
X-ALT-DESC;FMTTYPE=text/html:<strong>Kurzbeschreibung:</strong><br/>Komödie
  von William Shakespeare.\nENSEMBLE PERSONA in Koproduktion mit dem Stadtt
 heater Schaffhausen (CH).\n<br /><strong>Ort:</strong><br/>Parktheater<br/
 >Kaiserstraße 107\, 77933 Lahr<br /><strong>Veranstalter:</strong><br/>Lah
 rKultur<br /><strong>Termin:</strong><br/>Beginn: 26.01.2027\, 20:00 Uhr<b
 r/>Ende: 26.01.2027<br /><strong>Tickets: </strong><br/><a rel='asdf' href
 ='https://ortenaukultur.de/de/theater/detail/tickets/id/585281-viel-laerm-
 um-nichts/?follow=https%253A%252F%252Fortenaukultur.reservix.de%252Fp%252F
 reservix%252Fevent%252F2542317' target='_blank' title='' id='ticketlink'>T
 ickets kaufen</a><br/>https://ortenaukultur.reservix.de/p/reservix/event/2
 542317<br/><b>1. Platz: </b><br />bis 24\,10 &euro\;&nbsp\; + Ermäßigung<b
 r /><b>2. Platz: </b><br />bis 20\,80 &euro\;&nbsp\; + Ermäßigung<br /><b>
 3. Platz: </b><br />bis 16\,40 &euro\;&nbsp\; + Ermäßigung<br /><b>4. Plat
 z: </b><br />bis 10\,90 &euro\;&nbsp\; + Ermäßigung<br />*Preise inkl. MwS
 t.<br /><br /><strong>Link:</strong><br/><a href='https://ortenaukultur.de
 /de/veranstaltungen/detail/veranstaltung/id/585281-viel-laerm-um-nichts/?v
 t=1'>Zur Detailseite</a>
END:VEVENT
END:VCALENDAR
