BEGIN:VCALENDAR
VERSION:2.0
PRODID:-//ortenaukultur.de//NONSGML kigkonsult.se iCalcreator 2.41.92//
CALSCALE:GREGORIAN
METHOD:PUBLISH
UID:65633338-3635-4565-b039-383436613939
X-WR-TIMEZONE:Europe/Berlin
X-LIC-LOCATION:Europe/Berlin
BEGIN:VEVENT
UID:585288-kulturportal@ortenaukultur.de
DTSTAMP:20260422T002909Z
DESCRIPTION:Kurzbeschreibung:\n Astrid Lindgren. Die Geschichte einer große
 n Frau. Mit eigens für das Stück geschriebener Live-Musik.\n Ort:\n Parkth
 eater\n Kaiserstraße 107\, 77933 Lahr\n Veranstalter:\n LahrKultur\n Termi
 n:\n Beginn: 13.04.2027\, 20:00 Uhr\n Ende: 13.04.2027\n Tickets:\n Ticket
 s kaufen\n https://ortenaukultur.reservix.de/p/reservix/event/2542328\n 1.
  Platz:\n bis 24\,10 € + Ermäßigung\n 2. Platz:\n bis 20\,80 € + Ermäßigun
 g\n 3. Platz:\n bis 16\,40 € + Ermäßigung\n 4. Platz:\n bis 10\,90 € + Erm
 äßigung\n *Preise inkl. MwSt.\n \n Link:\n Zur Detailseite
DTSTART;TZID=Europe/Berlin:20270413T200000
DTEND;TZID=Europe/Berlin:20270413T230000
LOCATION:Parktheater\, Kaiserstraße 107\, 77933 Lahr
SUMMARY:Ich bin Astrid aus Småland\, Parktheater
X-ALT-DESC;FMTTYPE=text/html:<strong>Kurzbeschreibung:</strong><br/>Astrid 
 Lindgren. Die Geschichte einer großen Frau.\nMit eigens für das Stück gesc
 hriebener Live-Musik.<br /><strong>Ort:</strong><br/>Parktheater<br/>Kaise
 rstraße 107\, 77933 Lahr<br /><strong>Veranstalter:</strong><br/>LahrKultu
 r<br /><strong>Termin:</strong><br/>Beginn: 13.04.2027\, 20:00 Uhr<br/>End
 e: 13.04.2027<br /><strong>Tickets: </strong><br/><a rel='asdf' href='http
 s://ortenaukultur.de/de/theater/detail/tickets/id/585288-ich-bin-astrid-au
 s-smaaland/?follow=https%253A%252F%252Fortenaukultur.reservix.de%252Fp%252
 Freservix%252Fevent%252F2542328' target='_blank' title='' id='ticketlink'>
 Tickets kaufen</a><br/>https://ortenaukultur.reservix.de/p/reservix/event/
 2542328<br/><b>1. Platz: </b><br />bis 24\,10 &euro\;&nbsp\; + Ermäßigung<
 br /><b>2. Platz: </b><br />bis 20\,80 &euro\;&nbsp\; + Ermäßigung<br /><b
 >3. Platz: </b><br />bis 16\,40 &euro\;&nbsp\; + Ermäßigung<br /><b>4. Pla
 tz: </b><br />bis 10\,90 &euro\;&nbsp\; + Ermäßigung<br />*Preise inkl. Mw
 St.<br /><br /><strong>Link:</strong><br/><a href='https://ortenaukultur.d
 e/de/veranstaltungen/detail/veranstaltung/id/585288-ich-bin-astrid-aus-sma
 aland/?vt=1'>Zur Detailseite</a>
END:VEVENT
END:VCALENDAR
