BEGIN:VCALENDAR
VERSION:2.0
PRODID:-//ortenaukultur.de//NONSGML kigkonsult.se iCalcreator 2.41.92//
CALSCALE:GREGORIAN
METHOD:PUBLISH
UID:33623038-3330-4033-b134-336235646230
X-WR-TIMEZONE:Europe/Berlin
X-LIC-LOCATION:Europe/Berlin
BEGIN:VEVENT
UID:585363-kulturportal@ortenaukultur.de
DTSTAMP:20260422T225947Z
DESCRIPTION:Kurzbeschreibung:\n Spannender Stadtrundgang über berühmte und 
 auch nicht so bekannte Frauen Acherns\n Ort:\n Adlerplatz Achern\, Achern
 \n Veranstalter:\n Stadt Achern - FG3.3 - Tourist-Info\n Termin:\n Beginn:
  28.04.2026\, 17:00 Uhr\n Ende: 28.04.2026\n Link:\n Zur Detailseite
DTSTART;TZID=Europe/Berlin:20260428T170000
DTEND;TZID=Europe/Berlin:20260428T200000
LOCATION:Adlerplatz Achern\, Achern
SUMMARY:Stadtführung 'Auf den Spuren Acherner Frauen'\, Adlerplatz Achern
X-ALT-DESC;FMTTYPE=text/html:<strong>Kurzbeschreibung:</strong><br/>Spannen
 der Stadtrundgang über berühmte und auch nicht so bekannte Frauen Acherns<
 br /><strong>Ort:</strong><br/>Adlerplatz Achern\, Achern<br /><strong>Ver
 anstalter:</strong><br/>Stadt Achern - FG3.3 - Tourist-Info<br /><strong>T
 ermin:</strong><br/>Beginn: 28.04.2026\, 17:00 Uhr<br/>Ende: 28.04.2026<br
  /><strong>Link:</strong><br/><a href='https://ortenaukultur.de/de/veranst
 altungen/detail/veranstaltung/id/585363-stadtfuehrung-auf-den-spuren-acher
 ner-frauen/?vt=1'>Zur Detailseite</a>
END:VEVENT
END:VCALENDAR
