BEGIN:VCALENDAR
VERSION:2.0
PRODID:-//ortenaukultur.de//NONSGML kigkonsult.se iCalcreator 2.41.92//
CALSCALE:GREGORIAN
METHOD:PUBLISH
UID:61646332-3861-4464-a433-323766353133
X-WR-TIMEZONE:Europe/Berlin
X-LIC-LOCATION:Europe/Berlin
BEGIN:VEVENT
UID:585793-kulturportal@ortenaukultur.de
DTSTAMP:20260422T001143Z
DESCRIPTION:Kurzbeschreibung:\n The Fine Art of Glamourtainment SCHWARZBLON
 D Vier Oktaven Gesang trifft auf Haute Couture. Lachen - Staunen - Gänsehä
 uten\n Ort:\n Altes Kapuzinerkloster\n Klosterstr. 1\, 77716 Haslach\n Ver
 anstalter:\n Stadt Haslach - Kultur und Marketing\n Termin:\n Beginn: 28.0
 5.2026\, 19:00 Uhr\n Ende: 28.05.2026\n Tickets:\n https://www.reservix.de
 /p/reservix/event/2534816\n https://stadt-haslach.reservix.de/p/reservix/e
 vent/2534816\n VVK 20\,00 €\, Abendkasse 22\,00 € Reservix oder Tourist-In
 formation Haslach\n Link:\n Zur Detailseite
DTSTART;TZID=Europe/Berlin:20260528T190000
DTEND;TZID=Europe/Berlin:20260528T220000
LOCATION:Altes Kapuzinerkloster\, Klosterstr. 1\, 77716 Haslach
SUMMARY:KLIK - SchwarzBlond im Kreuzgang oder Haus der Musik\, Altes Kapuzi
 nerkloster
X-ALT-DESC;FMTTYPE=text/html:<strong>Kurzbeschreibung:</strong><br/>The Fin
 e Art of Glamourtainment\nSCHWARZBLOND\nVier Oktaven Gesang trifft auf Hau
 te Couture.\nLachen - Staunen - Gänsehäuten\n<br /><strong>Ort:</strong><b
 r/>Altes Kapuzinerkloster<br/>Klosterstr. 1\, 77716 Haslach<br /><strong>V
 eranstalter:</strong><br/>Stadt Haslach - Kultur und Marketing<br /><stron
 g>Termin:</strong><br/>Beginn: 28.05.2026\, 19:00 Uhr<br/>Ende: 28.05.2026
 <br /><strong>Tickets: </strong><br/><a  class='wco_cb_subtitle_link'  id=
 'ticketlink'  href='https://stadt-haslach.reservix.de/p/reservix/event/253
 4816' target='_blank' title='Jetzt Buchen'>https://www.reservix.de/p/reser
 vix/event/2534816</a><br/>https://stadt-haslach.reservix.de/p/reservix/eve
 nt/2534816<br/>VVK 20\,00 €\, Abendkasse 22\,00 € Reservix oder Tourist-In
 formation Haslach <br /><strong>Link:</strong><br/><a href='https://ortena
 ukultur.de/de/veranstaltungen/detail/veranstaltung/id/585793-klik-schwarzb
 lond-im-kreuzgang-oder-haus-der-musik/?vt=1'>Zur Detailseite</a>
END:VEVENT
END:VCALENDAR
