BEGIN:VCALENDAR
VERSION:2.0
PRODID:-//ortenaukultur.de//NONSGML kigkonsult.se iCalcreator 2.41.92//
CALSCALE:GREGORIAN
METHOD:PUBLISH
UID:64313531-6437-4162-b266-323932366662
X-WR-TIMEZONE:Europe/Berlin
X-LIC-LOCATION:Europe/Berlin
BEGIN:VEVENT
UID:585842-kulturportal@ortenaukultur.de
DTSTAMP:20260422T104627Z
DESCRIPTION:Kurzbeschreibung:\n Spaziergang auf historischen Spuren in und 
 um Steinach\, organisiert vom Historischen Verein und Verschönerungsverein
  Steinach.\n Ort:\n Heimat- und Kleinbrennermuseum\n Georg-Schöner-Straße 
 1\, 77790 Steinach\n Veranstalter:\n Historischer Verein\n Termin:\n Begin
 n: 14.06.2026\, 13:00 Uhr\n Ende: 14.06.2026\n Link:\n Zur Detailseite
DTSTART;TZID=Europe/Berlin:20260614T130000
DTEND;TZID=Europe/Berlin:20260614T160000
LOCATION:Heimat- und Kleinbrennermuseum\, Georg-Schöner-Straße 1\, 77790 St
 einach
SUMMARY:Historischer Dorfrundgang\, Heimat- und Kleinbrennermuseum
X-ALT-DESC;FMTTYPE=text/html:<strong>Kurzbeschreibung:</strong><br/>Spazier
 gang auf historischen Spuren in und um Steinach\, organisiert vom Historis
 chen Verein und Verschönerungsverein Steinach.<br /><strong>Ort:</strong><
 br/>Heimat- und Kleinbrennermuseum<br/>Georg-Schöner-Straße 1\, 77790 Stei
 nach<br /><strong>Veranstalter:</strong><br/>Historischer Verein<br /><str
 ong>Termin:</strong><br/>Beginn: 14.06.2026\, 13:00 Uhr<br/>Ende: 14.06.20
 26<br /><strong>Link:</strong><br/><a href='https://ortenaukultur.de/de/ve
 ranstaltungen/detail/veranstaltung/id/585842-historischer-dorfrundgang/?vt
 =1'>Zur Detailseite</a>
END:VEVENT
END:VCALENDAR
