BEGIN:VCALENDAR
VERSION:2.0
PRODID:-//ortenaukultur.de//NONSGML kigkonsult.se iCalcreator 2.41.92//
CALSCALE:GREGORIAN
METHOD:PUBLISH
UID:64323239-6665-4065-b833-643130356565
X-WR-TIMEZONE:Europe/Berlin
X-LIC-LOCATION:Europe/Berlin
BEGIN:VEVENT
UID:586155-kulturportal@ortenaukultur.de
DTSTAMP:20260422T004340Z
DESCRIPTION:Kurzbeschreibung:\n Weihnachtsfeier mit Schüler-Akkordeonkonzer
 t und anschließender Theateraufführung des Harmonika Verein Ramsbach im Jo
 sefshaus.\n Ort:\n Josefshaus\n Dreikönigweg 1\, 77728 Oppenau\n Veranstal
 ter:\n Harmonika-Verein Ramsbach\n Termin:\n Beginn: 19.12.2026\, 19:30 Uh
 r\n Ende: 19.12.2026\n Tickets:\n Tickets im Vorverkauf: 7\,- EUR\, Abendk
 asse 8\,- EUR\n \n Link:\n Zur Detailseite
DTSTART;TZID=Europe/Berlin:20261219T193000
DTEND;TZID=Europe/Berlin:20261219T223000
LOCATION:Josefshaus\, Dreikönigweg 1\, 77728 Oppenau
SUMMARY:Weihnachtsfeier des Harmonika-Verein Ramsbach\, Josefshaus
X-ALT-DESC;FMTTYPE=text/html:<strong>Kurzbeschreibung:</strong><br/>Weihnac
 htsfeier mit Schüler-Akkordeonkonzert und anschließender Theateraufführung
  des Harmonika Verein Ramsbach im Josefshaus.<br /><strong>Ort:</strong><b
 r/>Josefshaus<br/>Dreikönigweg 1\, 77728 Oppenau<br /><strong>Veranstalter
 :</strong><br/>Harmonika-Verein Ramsbach<br /><strong>Termin:</strong><br/
 >Beginn: 19.12.2026\, 19:30 Uhr<br/>Ende: 19.12.2026<br /><strong>Tickets:
  </strong><br/>Tickets im Vorverkauf: 7\,- EUR\, Abendkasse 8\,- EUR <br /
 >\n<br /><strong>Link:</strong><br/><a href='https://ortenaukultur.de/de/v
 eranstaltungen/detail/veranstaltung/id/586155-weihnachtsfeier-des-harmonik
 a-verein-ramsbach/?vt=1'>Zur Detailseite</a>
END:VEVENT
END:VCALENDAR
