BEGIN:VCALENDAR
VERSION:2.0
PRODID:-//ortenaukultur.de//NONSGML kigkonsult.se iCalcreator 2.41.92//
CALSCALE:GREGORIAN
METHOD:PUBLISH
UID:61663361-6330-4136-a239-633661356137
X-WR-TIMEZONE:Europe/Berlin
X-LIC-LOCATION:Europe/Berlin
BEGIN:VEVENT
UID:588299-kulturportal@ortenaukultur.de
DTSTAMP:20260421T223144Z
DESCRIPTION:Kurzbeschreibung:\n Reise in das Jahr 1772 mit dem Schuppanzigh
  Quartett\, Streichquartette von F.X. Richter\, J. Haydn\, W.A. Mozart\n O
 rt:\n Kunsthalle Altdorf\n Eugen-Lacroix-Str. 2\, 77955 Ettenheim\n Verans
 talter:\n Musikfreunde Ettenheim e.V.\n Termin:\n Beginn: 26.04.2026\, 18:
 00 Uhr\n Ende: 26.04.2026\n Tickets:\n Erwachsene 25 Euro\n SchülerInnen\,
  Studierende und Auszubildende 12 Euro\,\n Kinder und Jugendliche bis 14 J
 ahre frei\n \n Kartenreservierung Bürgerbüro Ettenheim Tel.: 07822 432-150
  info@ettenheim.de\n Kassenöffnung um 17:00 Uhr Reservierte Karten müssen 
 bis 30 Minuten vor Konzertbeginn abgeholt werde\n Link:\n Zur Detailseite
DTSTART;TZID=Europe/Berlin:20260426T180000
DTEND;TZID=Europe/Berlin:20260426T210000
LOCATION:Kunsthalle Altdorf\, Eugen-Lacroix-Str. 2\, 77955 Ettenheim
SUMMARY:Schuppanzigh Quartett „Reise in das Jahr 1772“\, Kunsthalle Altdorf
X-ALT-DESC;FMTTYPE=text/html:<strong>Kurzbeschreibung:</strong><br/>Reise i
 n das Jahr 1772 mit dem Schuppanzigh Quartett\, Streichquartette von F.X. 
 Richter\, J. Haydn\, W.A. Mozart<br /><strong>Ort:</strong><br/>Kunsthalle
  Altdorf<br/>Eugen-Lacroix-Str. 2\, 77955 Ettenheim<br /><strong>Veranstal
 ter:</strong><br/>Musikfreunde Ettenheim e.V.<br /><strong>Termin:</strong
 ><br/>Beginn: 26.04.2026\, 18:00 Uhr<br/>Ende: 26.04.2026<br /><strong>Tic
 kets: </strong><br/>Erwachsene 25 Euro <br />\nSchülerInnen\, Studierende 
 und Auszubildende 12 Euro\, <br />\nKinder und Jugendliche bis 14 Jahre fr
 ei <br />\n<br />\nKartenreservierung Bürgerbüro Ettenheim Tel.: 07822 432
 -150 info@ettenheim.de <br />\nKassenöffnung um 17:00 Uhr Reservierte Kart
 en müssen bis 30 Minuten vor Konzertbeginn abgeholt werde<br /><strong>Lin
 k:</strong><br/><a href='https://ortenaukultur.de/de/veranstaltungen/detai
 l/veranstaltung/id/588299-schuppanzigh-quartett-reise-in-das-jahr-1772/?vt
 =1'>Zur Detailseite</a>
END:VEVENT
END:VCALENDAR
