BEGIN:VCALENDAR
VERSION:2.0
PRODID:-//ortenaukultur.de//NONSGML kigkonsult.se iCalcreator 2.41.92//
CALSCALE:GREGORIAN
METHOD:PUBLISH
UID:63316565-3066-4336-b065-663735343932
X-WR-TIMEZONE:Europe/Berlin
X-LIC-LOCATION:Europe/Berlin
BEGIN:VEVENT
UID:588881-kulturportal@ortenaukultur.de
DTSTAMP:20260421T184914Z
DESCRIPTION:Kurzbeschreibung:\n 800 Jahrfeier Orschweier Fassanstich\, Feie
 rabendhock\, Tanz in den Mai mit Liveband »Just Lucky«\n Ort:\n Malaucèner
  Platz\, Orschweier Hauptstrasse\, Mahlberg-Orschweier\n Veranstalter:\n O
 rtsteil Orschweier\n Termin:\n Beginn: 30.04.2026\, 18:00 Uhr\n Ende: 30.0
 4.2026\n Link:\n Zur Detailseite
DTSTART;TZID=Europe/Berlin:20260430T180000
DTEND;TZID=Europe/Berlin:20260430T210000
LOCATION:Malaucèner Platz\, Orschweier Hauptstrasse\, Mahlberg-Orschweier
SUMMARY:800-Jahr Feier Orschweier\, Malaucèner Platz\, Orschweier Hauptstra
 sse
X-ALT-DESC;FMTTYPE=text/html:<strong>Kurzbeschreibung:</strong><br/>800 Jah
 rfeier Orschweier\nFassanstich\, Feierabendhock\, Tanz in den Mai mit Live
 band »Just Lucky« <br /><strong>Ort:</strong><br/>Malaucèner Platz\, Orsch
 weier Hauptstrasse\, Mahlberg-Orschweier<br /><strong>Veranstalter:</stron
 g><br/>Ortsteil Orschweier<br /><strong>Termin:</strong><br/>Beginn: 30.04
 .2026\, 18:00 Uhr<br/>Ende: 30.04.2026<br /><strong>Link:</strong><br/><a 
 href='https://ortenaukultur.de/de/veranstaltungen/detail/veranstaltung/id/
 588881-800-jahr-feier-orschweier/?vt=1'>Zur Detailseite</a>
END:VEVENT
END:VCALENDAR
