BEGIN:VCALENDAR
VERSION:2.0
PRODID:-//ortenaukultur.de//NONSGML kigkonsult.se iCalcreator 2.41.92//
CALSCALE:GREGORIAN
METHOD:PUBLISH
UID:61363434-6261-4138-a437-623865323338
X-WR-TIMEZONE:Europe/Berlin
X-LIC-LOCATION:Europe/Berlin
BEGIN:VEVENT
UID:591265-kulturportal@ortenaukultur.de
DTSTAMP:20260421T225022Z
DESCRIPTION:Kurzbeschreibung:\n Die Laienspielgruppe des Gesangvereins lädt
  herzlich ein zu einer Komödie.\n Ort:\n Allmendhalle\n Am Sportplatz 15\,
  77790 Steinach-Welschensteinach\n Veranstalter:\n Chor Liederkranz Welsch
 ensteinach 1897 e.V.\n Termin:\n Beginn: 14.11.2026\, 20:00 Uhr\n Ende: 14
 .11.2026\n Tickets:\n 10\,-- €\n Link:\n Zur Detailseite
DTSTART;TZID=Europe/Berlin:20261114T200000
DTEND;TZID=Europe/Berlin:20261114T230000
LOCATION:Allmendhalle\, Am Sportplatz 15\, 77790 Steinach-Welschensteinach
SUMMARY:Theaterabend des Gesangvereins 'Liederkranz'\, Allmendhalle
X-ALT-DESC;FMTTYPE=text/html:<strong>Kurzbeschreibung:</strong><br/>Die Lai
 enspielgruppe des Gesangvereins lädt herzlich ein zu einer Komödie.\n\n<br
  /><strong>Ort:</strong><br/>Allmendhalle<br/>Am Sportplatz 15\, 77790 Ste
 inach-Welschensteinach<br /><strong>Veranstalter:</strong><br/>Chor Lieder
 kranz Welschensteinach 1897  e.V.<br /><strong>Termin:</strong><br/>Beginn
 : 14.11.2026\, 20:00 Uhr<br/>Ende: 14.11.2026<br /><strong>Tickets: </stro
 ng><br/>10\,-- €<br /><strong>Link:</strong><br/><a href='https://ortenauk
 ultur.de/de/veranstaltungen/detail/veranstaltung/id/591265-theaterabend-de
 s-gesangvereins-liederkranz/?vt=1'>Zur Detailseite</a>
END:VEVENT
END:VCALENDAR
