BEGIN:VCALENDAR
VERSION:2.0
PRODID:-//ortenaukultur.de//NONSGML kigkonsult.se iCalcreator 2.41.92//
CALSCALE:GREGORIAN
METHOD:PUBLISH
UID:62323432-3939-4663-b230-326431353739
X-WR-TIMEZONE:Europe/Berlin
X-LIC-LOCATION:Europe/Berlin
BEGIN:VEVENT
UID:591270-kulturportal@ortenaukultur.de
DTSTAMP:20260422T023046Z
DESCRIPTION:Kurzbeschreibung:\n Zur 'Steinacher Glühweinhütte' lädt der Wir
 tschaftskreis Steinach zusammen mit verschiedenen Gruppen und Vereinen her
 zlich ein.\n Ort:\n Rathausplatz\n Kirchstr. 4\, 77790 Steinach\n Veransta
 lter:\n Wirtschaftskreis Steinach e.V.\n Termin:\n Beginn: 04.12.2026\, 17
 :00 Uhr\n Ende: 04.12.2026\n Link:\n Zur Detailseite
DTSTART;TZID=Europe/Berlin:20261204T170000
DTEND;TZID=Europe/Berlin:20261204T200000
LOCATION:Rathausplatz\, Kirchstr. 4\, 77790 Steinach
SUMMARY:Steinacher Glühweinhütte\, Rathaus
X-ALT-DESC;FMTTYPE=text/html:<strong>Kurzbeschreibung:</strong><br/>Zur  'S
 teinacher Glühweinhütte' lädt der Wirtschaftskreis Steinach zusammen mit v
 erschiedenen Gruppen und Vereinen herzlich ein.<br /><strong>Ort:</strong>
 <br/>Rathausplatz<br/>Kirchstr. 4\, 77790 Steinach<br /><strong>Veranstalt
 er:</strong><br/>Wirtschaftskreis Steinach e.V.<br /><strong>Termin:</stro
 ng><br/>Beginn: 04.12.2026\, 17:00 Uhr<br/>Ende: 04.12.2026<br /><strong>L
 ink:</strong><br/><a href='https://ortenaukultur.de/de/veranstaltungen/det
 ail/veranstaltung/id/591270-steinacher-gluehweinhuette/?vt=1'>Zur Detailse
 ite</a>
END:VEVENT
END:VCALENDAR
