BEGIN:VCALENDAR
VERSION:2.0
PRODID:-//ortenaukultur.de//NONSGML kigkonsult.se iCalcreator 2.41.92//
CALSCALE:GREGORIAN
METHOD:PUBLISH
UID:35633034-6530-4361-b165-633466616164
X-WR-TIMEZONE:Europe/Berlin
X-LIC-LOCATION:Europe/Berlin
BEGIN:VEVENT
UID:591564-kulturportal@ortenaukultur.de
DTSTAMP:20260422T024134Z
DESCRIPTION:Kurzbeschreibung:\n Musiktheaterprojekt aus Offenburg - Improvi
 sation\, Live-Musik und eindrucksvolle Bühnenbilder\n Ort:\n Stadthalle\n 
 Friedhofstraße 5\, 77871 Renchen\n Veranstalter:\n Stadt Renchen\n Termin:
 \n Beginn: 05.12.2026\, 19:00 Uhr\n Ende: 05.12.2026\n Tickets:\n Einritt 
 frei\, Spenden erbeten\n Link:\n Zur Detailseite
DTSTART;TZID=Europe/Berlin:20261205T190000
DTEND;TZID=Europe/Berlin:20261205T220000
LOCATION:Stadthalle\, Friedhofstraße 5\, 77871 Renchen
SUMMARY:Der abenteuerliche Simplicissimus - Musiktheaterprojekt\, Stadthall
 e
X-ALT-DESC;FMTTYPE=text/html:<strong>Kurzbeschreibung:</strong><br/>Musikth
 eaterprojekt aus Offenburg - Improvisation\, Live-Musik und eindrucksvolle
  Bühnenbilder<br /><strong>Ort:</strong><br/>Stadthalle<br/>Friedhofstraße
  5\, 77871 Renchen<br /><strong>Veranstalter:</strong><br/>Stadt Renchen<b
 r /><strong>Termin:</strong><br/>Beginn: 05.12.2026\, 19:00 Uhr<br/>Ende: 
 05.12.2026<br /><strong>Tickets: </strong><br/>Einritt frei\, Spenden erbe
 ten<br /><strong>Link:</strong><br/><a href='https://ortenaukultur.de/de/v
 eranstaltungen/detail/veranstaltung/id/591564-der-abenteuerliche-simplicis
 simus-musiktheaterprojekt/?vt=1'>Zur Detailseite</a>
END:VEVENT
END:VCALENDAR
