BEGIN:VCALENDAR
VERSION:2.0
PRODID:-//ortenaukultur.de//NONSGML kigkonsult.se iCalcreator 2.41.92//
CALSCALE:GREGORIAN
METHOD:PUBLISH
UID:38353139-6164-4933-b562-616331373633
X-WR-TIMEZONE:Europe/Berlin
X-LIC-LOCATION:Europe/Berlin
BEGIN:VEVENT
UID:591740-kulturportal@ortenaukultur.de
DTSTAMP:20260421T192049Z
DESCRIPTION:Kurzbeschreibung:\n Die Zaubershows für Kids und Youngsters ZUM
  STAUNEN\, LACHEN UND MITMACHEN\n Ort:\n Stadthalle\n Großherzog-Friedrich
 -Str. 19\, 77694 Kehl\n Veranstalter:\n Dennis Rush Illusions\n Termin:\n 
 Beginn: 03.05.2026\n Ende: 03.05.2026\n Link:\n Zur Detailseite
DTSTART;TZID=Europe/Berlin:20260503T000000
DTEND;TZID=Europe/Berlin:20260503T030000
LOCATION:Stadthalle\, Großherzog-Friedrich-Str. 19\, 77694 Kehl
SUMMARY:„PHÄNOMENAL“\, Stadthalle
X-ALT-DESC;FMTTYPE=text/html:<strong>Kurzbeschreibung:</strong><br/>Die Zau
 bershows für Kids und Youngsters ZUM STAUNEN\, LACHEN UND MITMACHEN<br /><
 strong>Ort:</strong><br/>Stadthalle<br/>Großherzog-Friedrich-Str. 19\, 776
 94 Kehl<br /><strong>Veranstalter:</strong><br/>Dennis Rush Illusions<br /
 ><strong>Termin:</strong><br/>Beginn: 03.05.2026<br/>Ende: 03.05.2026<br /
 ><strong>Link:</strong><br/><a href='https://ortenaukultur.de/de/veranstal
 tungen/detail/veranstaltung/id/591740-phaenomenal/?vt=1'>Zur Detailseite</
 a>
END:VEVENT
END:VCALENDAR
