BEGIN:VCALENDAR
VERSION:2.0
PRODID:-//ortenaukultur.de//NONSGML kigkonsult.se iCalcreator 2.41.92//
CALSCALE:GREGORIAN
METHOD:PUBLISH
UID:62363530-3539-4366-a262-383663343463
X-WR-TIMEZONE:Europe/Berlin
X-LIC-LOCATION:Europe/Berlin
BEGIN:VEVENT
UID:294125-kulturportal@ortenaukultur.de
DTSTAMP:20260421T225351Z
DESCRIPTION:Kurzbeschreibung:\n Erleben Sie bei einer kostenlose Führung vo
 n 16.30 bis 17.30 Uhr die voll funktionsfähige Bauernsäge des Gallus-Hofes
 .\n Ort:\n Gallus-Säge im Zuwälder Tal\n Zuwald 2\, 77784 Oberharmersbach
 \n Veranstalter:\n Gemeinde Oberharmersbach\n Termin:\n Beginn: 15.05.2026
 \, 16:30 Uhr\n Ende: 15.05.2026\n Link:\n Zur Detailseite
DTSTART;TZID=Europe/Berlin:20260515T163000
DTEND;TZID=Europe/Berlin:20260515T193000
LOCATION:Gallus-Säge im Zuwälder Tal\, Zuwald 2\, 77784 Oberharmersbach
SUMMARY:Erlebnis Bauernsäge: Besichtigung und Vorführung der Gallus-Säge\, 
 Gallus-Säge im Zuwälder Tal
X-ALT-DESC;FMTTYPE=text/html:<strong>Kurzbeschreibung:</strong><br/>Erleben
  Sie bei einer kostenlose Führung von 16.30 bis 17.30 Uhr die voll funktio
 nsfähige Bauernsäge des Gallus-Hofes.<br /><strong>Ort:</strong><br/>Gallu
 s-Säge im Zuwälder Tal<br/>Zuwald 2\, 77784 Oberharmersbach<br /><strong>V
 eranstalter:</strong><br/>Gemeinde Oberharmersbach<br /><strong>Termin:</s
 trong><br/>Beginn: 15.05.2026\, 16:30 Uhr<br/>Ende: 15.05.2026<br /><stron
 g>Link:</strong><br/><a href='https://ortenaukultur.de/de/veranstaltungen/
 detail/veranstaltung/id/294125-erlebnis-bauernsaege-besichtigung-und-vorfu
 ehrung-der-gallus-saege/?vt=1'>Zur Detailseite</a>
END:VEVENT
END:VCALENDAR
